BEGIN:VCALENDAR
VERSION:2.0
PRODID:www.reiseland-brandenburg.de
BEGIN:VEVENT
UID:69ea178ac96c8
DTSTART:20260613T081500Z
SEQUENCE:0
TRANSP:OPAQUE
DTEND:20260613T131500Z
URL:http://www.reiseland-brandenburg.de/veranstaltung/flaeming/erlebnistour
 -von-goldschaetzen-und-almhuetten
LOCATION:Bahnhof Baitz\, Bahnhofstraße 1\, 14822 Brück
X-APPLE-STRUCTURED-LOCATION;VALUE=URI;X-ADDRESS="Bahnhof Baitz, Bahnhofstra
 ße 1, 14822 Brück";X-APPLE-RADIUS=49;X-TITLE=Bahnhof Baitz:geo:12.758273
 ,52.191369
GEO:12.758273;52.191369
SUMMARY:ErlebnisTour: „Von Goldschätzen und Almhütten“
CLASS:PUBLIC
DESCRIPTION:Rundwanderung entlang des Rundwanderweges 21\n\nDie Wanderung s
 tartet am Bahnhof Baitz und führt vorbei am „Goldenem Acker“ und durc
 h das Flämingörtchen Baitz zum Aussichtspunkt „Baitzer Alm“. Von dor
 t hat man einen wunderbaren Blick in die Belziger Landschaftswiesen im Bar
 uther Urstromtal. Ob eine dort lebende Großtrappe\, der schwerste flugfä
 hige Vogel\, zu entdecken ist? Entlang der Kleinen Plane geht es zur Zicke
 nwiese in Trebitz\, weiter zur Wühlmühle\, eine noch heute arbeitende vo
 llintakte Wassermühle von 1565. Der Weg führt dann vorbei an der Neschho
 lzer Heide nach Neschholz und dem Bahnhof Baitz entgegen.\n\nBitte wetterg
 erechte Kleidung\, festes Schuhwerk und Rucksackverpflegung mitbringen.\n\
 nWanderleiter: Steffen Hercher\, zertifizierter Natur- und Landschaftsfüh
 rer\n\nDiese Führung ist ein Angebot der „Ranger- und Erlebnistouren“
 .\n\nKontakt:\n\nMärkischer Wanderbund Fläming-Havelland e. V.\nSchlosss
 traße 1\n14827 Wiesenburg/Mark\nTelefon: +49 1575  2705036\nEmail: s.herc
 her@gmx.de\n\nWeitere Informationen zur Veranstaltung: http://www.reiselan
 d-brandenburg.de/veranstaltung/flaeming/erlebnistour-von-goldschaetzen-und
 -almhuetten
CATEGORIES:Exkursion / Wanderung
DTSTAMP:20260423T125850Z
END:VEVENT
END:VCALENDAR