BEGIN:VCALENDAR
VERSION:2.0
PRODID:www.reiseland-brandenburg.de
BEGIN:VEVENT
UID:69eb42a0e0881
DTSTART:20260502T120000Z
SEQUENCE:0
TRANSP:OPAQUE
DTEND:20260502T160000Z
URL:http://www.reiseland-brandenburg.de/veranstaltung/havelland/offene-atel
 iers-2026-paretzer-field-music
LOCATION:Paretzer Field Music\, Paretzhofer Str.  48\, 14669 Ketzin/Havel
X-APPLE-STRUCTURED-LOCATION;VALUE=URI;X-ADDRESS="Paretzer Field Music, Pare
 tzhofer Str.  48, 14669 Ketzin/Havel";X-APPLE-RADIUS=49;X-TITLE=Paretzer F
 ield Music:geo:12.886723,52.476592
GEO:12.886723;52.476592
SUMMARY:Offene Ateliers 2026 -  Paretzer Field Music
CLASS:PUBLIC
DESCRIPTION:Klangkunst \, Partizipative Projekte\n\nSamstag: Sabine Vogel: 
 Flöten/ Klanginstallation/Tuning-in Workshops  \nSonntag: Sabine Vogel: F
 löten/Klanginstallation / Tuning-in Workshop &  \nMeinrad Kneer: Kontraba
 ss / Vogelwanderung  \n\\- Genaue Zeiten bitte auf der Webseite nachschaue
 n\n\nKontakt:\n\nLandkreis Havelland\nPlatz der Freiheit 1\n14712 Rathenow
 \nTelefon: \nEmail: \n\nWeitere Informationen zur Veranstaltung: http://ww
 w.reiseland-brandenburg.de/veranstaltung/havelland/offene-ateliers-2026-pa
 retzer-field-music
CATEGORIES:Ausstellung
DTSTAMP:20260424T101457Z
END:VEVENT
BEGIN:VEVENT
UID:69eb42a122df0
DTSTART:20260503T090000Z
SEQUENCE:0
TRANSP:OPAQUE
DTEND:20260503T160000Z
URL:http://www.reiseland-brandenburg.de/veranstaltung/havelland/offene-atel
 iers-2026-paretzer-field-music
LOCATION:Paretzer Field Music\, Paretzhofer Str.  48\, 14669 Ketzin/Havel
X-APPLE-STRUCTURED-LOCATION;VALUE=URI;X-ADDRESS="Paretzer Field Music, Pare
 tzhofer Str.  48, 14669 Ketzin/Havel";X-APPLE-RADIUS=49;X-TITLE=Paretzer F
 ield Music:geo:12.886723,52.476592
GEO:12.886723;52.476592
SUMMARY:Offene Ateliers 2026 -  Paretzer Field Music
CLASS:PUBLIC
DESCRIPTION:Klangkunst \, Partizipative Projekte\n\nSamstag: Sabine Vogel: 
 Flöten/ Klanginstallation/Tuning-in Workshops  \nSonntag: Sabine Vogel: F
 löten/Klanginstallation / Tuning-in Workshop &  \nMeinrad Kneer: Kontraba
 ss / Vogelwanderung  \n\\- Genaue Zeiten bitte auf der Webseite nachschaue
 n\n\nKontakt:\n\nLandkreis Havelland\nPlatz der Freiheit 1\n14712 Rathenow
 \nTelefon: \nEmail: \n\nWeitere Informationen zur Veranstaltung: http://ww
 w.reiseland-brandenburg.de/veranstaltung/havelland/offene-ateliers-2026-pa
 retzer-field-music
CATEGORIES:Ausstellung
DTSTAMP:20260424T101457Z
END:VEVENT
END:VCALENDAR