BEGIN:VCALENDAR
VERSION:2.0
PRODID:www.reiseland-brandenburg.de
BEGIN:VEVENT
UID:69e89d7bc4588
DTSTART:20260502T120000Z
SEQUENCE:0
TRANSP:OPAQUE
DTEND:20260502T160000Z
URL:http://www.reiseland-brandenburg.de/veranstaltung/havelland/offene-atel
 iers-2026-keramik-atelier-annette-wienen
LOCATION:Keramik-Atelier Annette Wienen\, Paretzhofer Straße  37\, 14669 K
 etzin/Havel
X-APPLE-STRUCTURED-LOCATION;VALUE=URI;X-ADDRESS="Keramik-Atelier Annette Wi
 enen, Paretzhofer Straße  37, 14669 Ketzin/Havel";X-APPLE-RADIUS=49;X-TIT
 LE=Keramik-Atelier Annette Wienen:geo:12.882855,52.473881
GEO:12.882855;52.473881
SUMMARY:Offene Ateliers 2026 -  Keramik-Atelier Annette Wienen
CLASS:PUBLIC
DESCRIPTION:Keramik\, Kunsthandwerk\n\nKontakt:\n\nLandkreis Havelland\nPla
 tz der Freiheit 1\n14712 Rathenow\nTelefon: \nEmail: \n\nWeitere Informati
 onen zur Veranstaltung: http://www.reiseland-brandenburg.de/veranstaltung/
 havelland/offene-ateliers-2026-keramik-atelier-annette-wienen
CATEGORIES:Ausstellung
DTSTAMP:20260422T100548Z
END:VEVENT
BEGIN:VEVENT
UID:69e89d7bcb3bd
DTSTART:20260503T090000Z
SEQUENCE:0
TRANSP:OPAQUE
DTEND:20260503T160000Z
URL:http://www.reiseland-brandenburg.de/veranstaltung/havelland/offene-atel
 iers-2026-keramik-atelier-annette-wienen
LOCATION:Keramik-Atelier Annette Wienen\, Paretzhofer Straße  37\, 14669 K
 etzin/Havel
X-APPLE-STRUCTURED-LOCATION;VALUE=URI;X-ADDRESS="Keramik-Atelier Annette Wi
 enen, Paretzhofer Straße  37, 14669 Ketzin/Havel";X-APPLE-RADIUS=49;X-TIT
 LE=Keramik-Atelier Annette Wienen:geo:12.882855,52.473881
GEO:12.882855;52.473881
SUMMARY:Offene Ateliers 2026 -  Keramik-Atelier Annette Wienen
CLASS:PUBLIC
DESCRIPTION:Keramik\, Kunsthandwerk\n\nKontakt:\n\nLandkreis Havelland\nPla
 tz der Freiheit 1\n14712 Rathenow\nTelefon: \nEmail: \n\nWeitere Informati
 onen zur Veranstaltung: http://www.reiseland-brandenburg.de/veranstaltung/
 havelland/offene-ateliers-2026-keramik-atelier-annette-wienen
CATEGORIES:Ausstellung
DTSTAMP:20260422T100548Z
END:VEVENT
END:VCALENDAR