BEGIN:VCALENDAR
VERSION:2.0
PRODID:www.reiseland-brandenburg.de
BEGIN:VEVENT
UID:69e92e5f6226f
DTSTART:20260619T183000Z
SEQUENCE:0
TRANSP:OPAQUE
DTEND:20260619T214500Z
URL:http://www.reiseland-brandenburg.de/veranstaltung/berlin/ziegenmelker-f
 uehrung-in-der-schoenower-heide-2
LOCATION:Parkplatz Schönower Heide\, Schönwalder Chaussee 33\, 16321 Bern
 au bei Berlin
X-APPLE-STRUCTURED-LOCATION;VALUE=URI;X-ADDRESS="Parkplatz Schönower Heide
 , Schönwalder Chaussee 33, 16321 Bernau bei Berlin";X-APPLE-RADIUS=49;X-T
 ITLE=Parkplatz Schönower Heide:geo:13.399632,52.518362
GEO:13.399632;52.518362
SUMMARY:Ziegenmelker-Führung in der Schönower Heide
CLASS:PUBLIC
DESCRIPTION:Mythen und Sagen umranken ihn\, geradezu gespenstisch muten sei
 ne Rufe an\, wenn der Ziegenmelker in der Nacht wahrgenommen wird. Einem u
 nheimlichen schwarzen Schatten gleich segelt die vom Aussterben bedrohte A
 rt mit seinen großen Schwingen bodennah über die halboffene Landschaft\,
  um zu jagen. Gerade jetzt\, zur Sommersonnenwende ist er mit etwas Glück
  dabei zu beobachten. Es ist kein Zufall\, dass genau jetzt seine Hauptbeu
 te aktiv wird\, der heimische Löwe in der Heidelandschaft macht sich für
  wenige Tage zur Paarung bereit… .   \nErleben Sie den seltenen Ziegenme
 lker bei einer Führung auf einer ca. 6 km langen Wanderung hinein in das 
 umzäunte Kernstück des NSG „Schönower Heide“.\n\nPreis pro Person 1
 7\,50€\n\nGeeignet für Kinder und Rentner\n\nAnmeldung unter: natur_mit
 _temmi@yahoo.com oder 015224757169\n\nKontakt:\n\nnatur_mit_temmi@yahoo.co
 m\n\n \nTelefon: +49 152 24757169\nEmail: \n\nWeitere Informationen zur Ve
 ranstaltung: http://www.reiseland-brandenburg.de/veranstaltung/berlin/zieg
 enmelker-fuehrung-in-der-schoenower-heide-2
CATEGORIES:Exkursion / Wanderung
DTSTAMP:20260422T202359Z
END:VEVENT
END:VCALENDAR