BEGIN:VCALENDAR
VERSION:2.0
PRODID:www.reiseland-brandenburg.de
BEGIN:VEVENT
UID:69e92e0fcec48
DTSTART:20260613T090000Z
SEQUENCE:0
TRANSP:OPAQUE
DTEND:20260613T120000Z
URL:http://www.reiseland-brandenburg.de/veranstaltung/berlin/neue-und-alte-
 wasserwege-im-hobrechtswald
LOCATION:Kirche Schönow\, Andreezeile\, 14165 Berlin
X-APPLE-STRUCTURED-LOCATION;VALUE=URI;X-ADDRESS="Kirche Schönow, Andreezei
 le, 14165 Berlin";X-APPLE-RADIUS=49;X-TITLE=Kirche Schönow:geo:13.399632,
 52.518362
GEO:13.399632;52.518362
SUMMARY:Neue und alte Wasserwege im Hobrechtswald
CLASS:PUBLIC
DESCRIPTION:Wasserwege gibt es nicht nur an Spree und Havel. Auf der gefüh
 rten Radtour geht es an einer eiszeitlichen Schmelzwasserrinne\, an Mooren
 \, Sümpfen und sogar einem Watt vorbei. Wofür und wie aber das: Künstli
 ch angelegte Gräben\, die einst Wasser schnell wegführen und es heute m
 öglichst zurücklassen sollen? Und welche Rolle spielte James Hobrecht da
 bei\, der vor 200 Jahren geboren wurde?  \nDiese Landschaft bietet heute n
 achweislich einen vielfältigen Lebensraum und weit und breit die größte
  Artenvielfalt (siehe Foto). Seltene Pflanzen und Tiere werden zu erleben 
 sein.  \nBei Regenwetter kann die Tour nicht stattfinden. Denken Sie bitte
  an ein verkehrssicheres Fahrrad.\n\nPreis pro Person 6€\n\nGeeignet fü
 r Kinder und Rentner\n\nAnmeldung unter: natur_mit_temmi@yahoo.com oder 01
 5224757169\n\nKontakt:\n\nnatur_mit_temmi@yahoo.com\n\n \nTelefon: +49 152
  24757169\nEmail: \n\nWeitere Informationen zur Veranstaltung: http://www.
 reiseland-brandenburg.de/veranstaltung/berlin/neue-und-alte-wasserwege-im-
 hobrechtswald
CATEGORIES:Exkursion / Wanderung
DTSTAMP:20260422T202239Z
END:VEVENT
END:VCALENDAR