BEGIN:VCALENDAR
VERSION:2.0
PRODID:www.reiseland-brandenburg.de
BEGIN:VEVENT
UID:69e89d872b00d
DTSTART:20260502T120000Z
SEQUENCE:0
TRANSP:OPAQUE
DTEND:20260502T160000Z
URL:http://www.reiseland-brandenburg.de/veranstaltung/havelland/offene-atel
 iers-2026-atelier-anette-hollmann
LOCATION:Atelier Anette Hollmann\, Paretzhofer Straße  36\, 14669 Ketzin/H
 avel
X-APPLE-STRUCTURED-LOCATION;VALUE=URI;X-ADDRESS="Atelier Anette Hollmann, P
 aretzhofer Straße  36, 14669 Ketzin/Havel";X-APPLE-RADIUS=49;X-TITLE=Atel
 ier Anette Hollmann:geo:12.882336,52.473654
GEO:12.882336;52.473654
SUMMARY:Offene Ateliers 2026 -  Atelier Anette Hollmann
CLASS:PUBLIC
DESCRIPTION:freie Kunst\, Keramik\, Malerei\n\nGastkünstlerin: Cäcilie Al
 bert - Klangkunst\n\nTitel des Wochenendes: \"Komm! In die Freiheit\"\n\nK
 ontakt:\n\nLandkreis Havelland\nPlatz der Freiheit 1\n14712 Rathenow\nTele
 fon: \nEmail: \n\nWeitere Informationen zur Veranstaltung: http://www.reis
 eland-brandenburg.de/veranstaltung/havelland/offene-ateliers-2026-atelier-
 anette-hollmann
CATEGORIES:Ausstellung
DTSTAMP:20260422T100559Z
END:VEVENT
BEGIN:VEVENT
UID:69e89d872cd39
DTSTART:20260503T090000Z
SEQUENCE:0
TRANSP:OPAQUE
DTEND:20260503T160000Z
URL:http://www.reiseland-brandenburg.de/veranstaltung/havelland/offene-atel
 iers-2026-atelier-anette-hollmann
LOCATION:Atelier Anette Hollmann\, Paretzhofer Straße  36\, 14669 Ketzin/H
 avel
X-APPLE-STRUCTURED-LOCATION;VALUE=URI;X-ADDRESS="Atelier Anette Hollmann, P
 aretzhofer Straße  36, 14669 Ketzin/Havel";X-APPLE-RADIUS=49;X-TITLE=Atel
 ier Anette Hollmann:geo:12.882336,52.473654
GEO:12.882336;52.473654
SUMMARY:Offene Ateliers 2026 -  Atelier Anette Hollmann
CLASS:PUBLIC
DESCRIPTION:freie Kunst\, Keramik\, Malerei\n\nGastkünstlerin: Cäcilie Al
 bert - Klangkunst\n\nTitel des Wochenendes: \"Komm! In die Freiheit\"\n\nK
 ontakt:\n\nLandkreis Havelland\nPlatz der Freiheit 1\n14712 Rathenow\nTele
 fon: \nEmail: \n\nWeitere Informationen zur Veranstaltung: http://www.reis
 eland-brandenburg.de/veranstaltung/havelland/offene-ateliers-2026-atelier-
 anette-hollmann
CATEGORIES:Ausstellung
DTSTAMP:20260422T100559Z
END:VEVENT
END:VCALENDAR