BEGIN:VCALENDAR
VERSION:2.0
PRODID:www.reiseland-brandenburg.de
BEGIN:VEVENT
UID:69ebac2898083
DTSTART:20260426T090000Z
SEQUENCE:0
TRANSP:OPAQUE
DTEND:20260426T103000Z
URL:http://www.reiseland-brandenburg.de/veranstaltung/barnimer-land/musterg
 ut-mit-eigenem-bahnhof
LOCATION:Speicher Hobrechtsfelde\, Hobrechtsfelder Dorfstraße 45\, 16341 P
 anketal
X-APPLE-STRUCTURED-LOCATION;VALUE=URI;X-ADDRESS="Speicher Hobrechtsfelde, H
 obrechtsfelder Dorfstraße 45, 16341 Panketal";X-APPLE-RADIUS=49;X-TITLE=S
 peicher Hobrechtsfelde:geo:13.490834,52.664853
GEO:13.490834;52.664853
SUMMARY:Mustergut mit eigenem Bahnhof?
CLASS:PUBLIC
DESCRIPTION:Das Mustergut Hobrechtsfelde diente seit 1908 der Versorgung de
 r Stadt Berlin mit landwirtschaftschaftlichen Produkten. Die damals gar ni
 cht so belastende Berieselung mit den Abwässern Berlins war nützlicher T
 eil von James Hobrechts Konzept. Zu diesem gehörte zur damaligen Zeit ein
  modernes Transportwesen\, das mehrere Stadtgüter und Flächen der Berlin
 er Forsten günstig über ein großes Schienennetz verband. Albertshof\, L
 obetal\, Blankenfelde waren mit dem Bahnhof Buch verbunden und Spuren gibt
  es hier und da noch zu entdecken.  \nDiese geführte Tour ist ein Angebot
  im Rahmen einer ganzen Reihe von Veranstaltungen zum 200. Geburtstag von 
 James Hobrecht. Sie beginnt in der Ausstellung des Besucherzentrums Speich
 ergebäude und führt dann auf etwa 4 km durch die Umgebung Hobrechtsfelde
 s. \n\nPreis pro Person 7€\n\nGeeignet für Kinder und Rentner\n\nAnmeld
 ung unter: https://urania-barnim.de/veranstaltung/hobrechtswalder-wirtscha
 ftsbahn/\n\nFragen gerne an natur_mit_temmi@yahoo.com oder 015224757169\n\
 nKontakt:\n\nhttps://urania-barnim.de/veranstaltung/hobrechtswalder-wirtsc
 haftsbahn/\nEberswalder Strasse  9\n16321 Bernau\nTelefon: +49 3338  5719\
 nEmail: \n\nWeitere Informationen zur Veranstaltung: http://www.reiseland-
 brandenburg.de/veranstaltung/barnimer-land/mustergut-mit-eigenem-bahnhof
CATEGORIES:Exkursion / Wanderung
DTSTAMP:20260424T174512Z
END:VEVENT
END:VCALENDAR