BEGIN:VCALENDAR
VERSION:2.0
PRODID:www.reiseland-brandenburg.de
BEGIN:VEVENT
UID:69e8b0c3c1379
DTSTART:20260503T090000Z
SEQUENCE:0
TRANSP:OPAQUE
DTEND:20260503T160000Z
URL:http://www.reiseland-brandenburg.de/veranstaltung/havelland/offene-atel
 iers-2026-atelier-monika-curto-fuentes
LOCATION:Atelier Monika Curto Fuentes\, Marie-Curie-Str. 35\, 14624 Dallgow
 -Döberitz
X-APPLE-STRUCTURED-LOCATION;VALUE=URI;X-ADDRESS="Atelier Monika Curto Fuent
 es, Marie-Curie-Str. 35, 14624 Dallgow-Döberitz";X-APPLE-RADIUS=49;X-TITL
 E=Atelier Monika Curto Fuentes:geo:13.044306,52.537430
GEO:13.044306;52.537430
SUMMARY:Offene Ateliers 2026 -  Atelier Monika Curto Fuentes
CLASS:PUBLIC
DESCRIPTION:Malerei\n\nKontakt:\n\nLandkreis Havelland\nPlatz der Freiheit 
 1\n14712 Rathenow\nTelefon: \nEmail: \n\nWeitere Informationen zur Veranst
 altung: http://www.reiseland-brandenburg.de/veranstaltung/havelland/offene
 -ateliers-2026-atelier-monika-curto-fuentes
CATEGORIES:Ausstellung
DTSTAMP:20260422T112803Z
END:VEVENT
END:VCALENDAR