BEGIN:VCALENDAR
VERSION:2.0
PRODID:www.reiseland-brandenburg.de
BEGIN:VEVENT
UID:69e8c67d81bbd
DTSTART:20260502T100000Z
SEQUENCE:0
TRANSP:OPAQUE
DTEND:20260502T160000Z
URL:http://www.reiseland-brandenburg.de/veranstaltung/havelland/offene-atel
 iers-2026-atelier-tanja-kramer-katt
LOCATION:Atelier Tanja Kramer-Katt\, Elbeallee  35\, 14612 Falkensee
X-APPLE-STRUCTURED-LOCATION;VALUE=URI;X-ADDRESS="Atelier Tanja Kramer-Katt,
  Elbeallee  35, 14612 Falkensee";X-APPLE-RADIUS=49;X-TITLE=Atelier Tanja K
 ramer-Katt:geo:13.075360,52.574439
GEO:13.075360;52.574439
SUMMARY:Offene Ateliers 2026 -  Atelier Tanja Kramer-Katt
CLASS:PUBLIC
DESCRIPTION:Fotografie\n\nKontakt:\n\nLandkreis Havelland\nPlatz der Freihe
 it 1\n14712 Rathenow\nTelefon: \nEmail: \n\nWeitere Informationen zur Vera
 nstaltung: http://www.reiseland-brandenburg.de/veranstaltung/havelland/off
 ene-ateliers-2026-atelier-tanja-kramer-katt
CATEGORIES:Ausstellung
DTSTAMP:20260422T130045Z
END:VEVENT
BEGIN:VEVENT
UID:69e8c67d8a7ae
DTSTART:20260503T100000Z
SEQUENCE:0
TRANSP:OPAQUE
DTEND:20260503T160000Z
URL:http://www.reiseland-brandenburg.de/veranstaltung/havelland/offene-atel
 iers-2026-atelier-tanja-kramer-katt
LOCATION:Atelier Tanja Kramer-Katt\, Elbeallee  35\, 14612 Falkensee
X-APPLE-STRUCTURED-LOCATION;VALUE=URI;X-ADDRESS="Atelier Tanja Kramer-Katt,
  Elbeallee  35, 14612 Falkensee";X-APPLE-RADIUS=49;X-TITLE=Atelier Tanja K
 ramer-Katt:geo:13.075360,52.574439
GEO:13.075360;52.574439
SUMMARY:Offene Ateliers 2026 -  Atelier Tanja Kramer-Katt
CLASS:PUBLIC
DESCRIPTION:Fotografie\n\nKontakt:\n\nLandkreis Havelland\nPlatz der Freihe
 it 1\n14712 Rathenow\nTelefon: \nEmail: \n\nWeitere Informationen zur Vera
 nstaltung: http://www.reiseland-brandenburg.de/veranstaltung/havelland/off
 ene-ateliers-2026-atelier-tanja-kramer-katt
CATEGORIES:Ausstellung
DTSTAMP:20260422T130045Z
END:VEVENT
END:VCALENDAR