BEGIN:VCALENDAR
VERSION:2.0
PRODID:www.reiseland-brandenburg.de
BEGIN:VEVENT
UID:69eb23878ff2b
DTSTART:20260425T080000Z
SEQUENCE:0
TRANSP:OPAQUE
DTEND:20260425T111500Z
URL:http://www.reiseland-brandenburg.de/veranstaltung/berlin/wanderung-durc
 h-den-hobrechtsfelder-erholungswald-mit-wechselvoller-geschichte
LOCATION:S Bahnhof Röntgental\, Kastanienallee\, 16341 Panketal
X-APPLE-STRUCTURED-LOCATION;VALUE=URI;X-ADDRESS="S Bahnhof Röntgental, Kas
 tanienallee, 16341 Panketal";X-APPLE-RADIUS=49;X-TITLE=S Bahnhof Röntgent
 al:geo:13.399632,52.518362
GEO:13.399632;52.518362
SUMMARY:Wanderung durch den Hobrechtsfelder Erholungswald mit wechselvoller
  Geschichte
CLASS:PUBLIC
DESCRIPTION:Im Kurs werden auf einer ca. 10 km Strecke durch den jüngsten\
 , ungewöhnlichsten Wald Berlins und das größte Wildweidegebiet Spuren d
 er ehemaligen Rieselfelder entdeckt\, das älteste Naturschutzgebiet Berli
 ns und das Stadtgut Hobrechtsfelde erkundet. Im Erholungswald werden Kunst
 werke im Wald aufgesucht und die Versuche zur Rekultivierung der ehemalige
 n Rieselfelder vorgestellt. Diese können sogar in Bodenmikroskopaufnahmen
  betrachtet werden. Den Schwerpunkt der Wanderung stellen das Erleben des 
 Wiedervernässungs- und des Wildtierbeweidungsprojektes dar.  \nDas Beobac
 hten geschützter Tiere und Pflanzen im neuen Wald\, das Erleben der Fauna
  und Flora eines Moores\, das Abenteuer auf dem Knüppeldamm-Geheimweg dur
 ch das Moor sind Höhepunkte der Tour.\n\nKosten:  14\,00 EUR / Person\n\n
 Voraussetzungen: Fitness für 10 km Wanderung\n\nZielgruppe: Kinder ab 10 
 Jahren\, wanderrüstige Erwachsene\n\nVeranstaltungsziel: Verständnis fü
 r Eingriffe in der Natur entwickeln\, kennenlernen der historischen Entwic
 klung\, entdecken von Naturschönheiten\, erfahren von Besonderem\n\nMater
 ial: Bitte bringen Sie Rucksackverpflegung und witterungsgemäße Kleidung
  mit.\n\nAnmeldung bitte unter: https://kvhs.barnim.de/programm/politik-ge
 sellschaft-umwelt/kurstermine/2526B1912?katid=266\n\nKontakt:\n\nhttps://k
 vhs.barnim.de/programm/politik-gesellschaft-umwelt/kurstermine/2526B1912?k
 atid=266\nJahnstraße  45\n16321 Bernau bei Berlin\nTelefon: +49 03338  39
 893-1127\nEmail: \n\nWeitere Informationen zur Veranstaltung: http://www.r
 eiseland-brandenburg.de/veranstaltung/berlin/wanderung-durch-den-hobrechts
 felder-erholungswald-mit-wechselvoller-geschichte
CATEGORIES:Exkursion / Wanderung
DTSTAMP:20260424T080215Z
END:VEVENT
END:VCALENDAR