BEGIN:VCALENDAR
VERSION:2.0
PRODID:www.reiseland-brandenburg.de
BEGIN:VEVENT
UID:69e89d8d48ab3
DTSTART:20260502T120000Z
SEQUENCE:0
TRANSP:OPAQUE
DTEND:20260502T160000Z
URL:http://www.reiseland-brandenburg.de/veranstaltung/havelland/offene-atel
 iers-2026-atelier-sylva-hass
LOCATION:Atelier Sylva Hass\, Zeppelinstraße  22\, 14612 Falkensee
X-APPLE-STRUCTURED-LOCATION;VALUE=URI;X-ADDRESS="Atelier Sylva Hass, Zeppel
 instraße  22, 14612 Falkensee";X-APPLE-RADIUS=49;X-TITLE=Atelier Sylva Ha
 ss:geo:13.031553,52.563770
GEO:13.031553;52.563770
SUMMARY:Offene Ateliers 2026 -  Atelier Sylva Hass
CLASS:PUBLIC
DESCRIPTION:Malerei\n\nKontakt:\n\nLandkreis Havelland\nPlatz der Freiheit 
 1\n14712 Rathenow\nTelefon: \nEmail: \n\nWeitere Informationen zur Veranst
 altung: http://www.reiseland-brandenburg.de/veranstaltung/havelland/offene
 -ateliers-2026-atelier-sylva-hass
CATEGORIES:Ausstellung
DTSTAMP:20260422T100607Z
END:VEVENT
BEGIN:VEVENT
UID:69e89d8d9d2e5
DTSTART:20260503T090000Z
SEQUENCE:0
TRANSP:OPAQUE
DTEND:20260503T160000Z
URL:http://www.reiseland-brandenburg.de/veranstaltung/havelland/offene-atel
 iers-2026-atelier-sylva-hass
LOCATION:Atelier Sylva Hass\, Zeppelinstraße  22\, 14612 Falkensee
X-APPLE-STRUCTURED-LOCATION;VALUE=URI;X-ADDRESS="Atelier Sylva Hass, Zeppel
 instraße  22, 14612 Falkensee";X-APPLE-RADIUS=49;X-TITLE=Atelier Sylva Ha
 ss:geo:13.031553,52.563770
GEO:13.031553;52.563770
SUMMARY:Offene Ateliers 2026 -  Atelier Sylva Hass
CLASS:PUBLIC
DESCRIPTION:Malerei\n\nKontakt:\n\nLandkreis Havelland\nPlatz der Freiheit 
 1\n14712 Rathenow\nTelefon: \nEmail: \n\nWeitere Informationen zur Veranst
 altung: http://www.reiseland-brandenburg.de/veranstaltung/havelland/offene
 -ateliers-2026-atelier-sylva-hass
CATEGORIES:Ausstellung
DTSTAMP:20260422T100607Z
END:VEVENT
END:VCALENDAR