BEGIN:VCALENDAR
VERSION:2.0
PRODID:www.reiseland-brandenburg.de
BEGIN:VEVENT
UID:69e89d87106f9
DTSTART:20260502T120000Z
SEQUENCE:0
TRANSP:OPAQUE
DTEND:20260502T160000Z
URL:http://www.reiseland-brandenburg.de/veranstaltung/havelland/offene-atel
 iers-2026-atelier-stephanie-meixner
LOCATION:Atelier Stephanie Meixner\, Fontaneallee 22\, 14612 Falkensee
X-APPLE-STRUCTURED-LOCATION;VALUE=URI;X-ADDRESS="Atelier Stephanie Meixner,
  Fontaneallee 22, 14612 Falkensee";X-APPLE-RADIUS=49;X-TITLE=Atelier Steph
 anie Meixner:geo:13.119180,52.570616
GEO:13.119180;52.570616
SUMMARY:Offene Ateliers 2026 -  Atelier Stephanie Meixner
CLASS:PUBLIC
DESCRIPTION:Malerei\, Zeichnung\n\nKontakt:\n\nLandkreis Havelland\nPlatz d
 er Freiheit 1\n14712 Rathenow\nTelefon: \nEmail: \n\nWeitere Informationen
  zur Veranstaltung: http://www.reiseland-brandenburg.de/veranstaltung/have
 lland/offene-ateliers-2026-atelier-stephanie-meixner
CATEGORIES:Ausstellung
DTSTAMP:20260422T100559Z
END:VEVENT
BEGIN:VEVENT
UID:69e89d87173ae
DTSTART:20260503T090000Z
SEQUENCE:0
TRANSP:OPAQUE
DTEND:20260503T160000Z
URL:http://www.reiseland-brandenburg.de/veranstaltung/havelland/offene-atel
 iers-2026-atelier-stephanie-meixner
LOCATION:Atelier Stephanie Meixner\, Fontaneallee 22\, 14612 Falkensee
X-APPLE-STRUCTURED-LOCATION;VALUE=URI;X-ADDRESS="Atelier Stephanie Meixner,
  Fontaneallee 22, 14612 Falkensee";X-APPLE-RADIUS=49;X-TITLE=Atelier Steph
 anie Meixner:geo:13.119180,52.570616
GEO:13.119180;52.570616
SUMMARY:Offene Ateliers 2026 -  Atelier Stephanie Meixner
CLASS:PUBLIC
DESCRIPTION:Malerei\, Zeichnung\n\nKontakt:\n\nLandkreis Havelland\nPlatz d
 er Freiheit 1\n14712 Rathenow\nTelefon: \nEmail: \n\nWeitere Informationen
  zur Veranstaltung: http://www.reiseland-brandenburg.de/veranstaltung/have
 lland/offene-ateliers-2026-atelier-stephanie-meixner
CATEGORIES:Ausstellung
DTSTAMP:20260422T100559Z
END:VEVENT
END:VCALENDAR