BEGIN:VCALENDAR
VERSION:2.0
PRODID:www.reiseland-brandenburg.de
BEGIN:VEVENT
UID:69e8b11b5b8b2
DTSTART:20260502T120000Z
SEQUENCE:0
TRANSP:OPAQUE
DTEND:20260502T160000Z
URL:http://www.reiseland-brandenburg.de/veranstaltung/havelland/offene-atel
 iers-2026-atelier-am-heizhaus
LOCATION:Atelier Am Heizhaus\, Bahnhofstraße 49 a\, 14612 Falkensee
X-APPLE-STRUCTURED-LOCATION;VALUE=URI;X-ADDRESS="Atelier Am Heizhaus, Bahnh
 ofstraße 49 a, 14612 Falkensee";X-APPLE-RADIUS=49;X-TITLE=Atelier Am Heiz
 haus:geo:13.094540,52.564013
GEO:13.094540;52.564013
SUMMARY:Offene Ateliers 2026 -  Atelier Am Heizhaus
CLASS:PUBLIC
DESCRIPTION:Grafik \, Malerei\, Linolschnittreliefs\n\nFührungen durch das
  Atelier mit der Künstlerin 14:30 Uhr und 17 Uhr\n\nKontakt:\n\nLandkreis
  Havelland\nPlatz der Freiheit 1\n14712 Rathenow\nTelefon: \nEmail: \n\nWe
 itere Informationen zur Veranstaltung: http://www.reiseland-brandenburg.de
 /veranstaltung/havelland/offene-ateliers-2026-atelier-am-heizhaus
CATEGORIES:Ausstellung
DTSTAMP:20260422T112931Z
END:VEVENT
BEGIN:VEVENT
UID:69e8b11bb3b89
DTSTART:20260503T090000Z
SEQUENCE:0
TRANSP:OPAQUE
DTEND:20260503T160000Z
URL:http://www.reiseland-brandenburg.de/veranstaltung/havelland/offene-atel
 iers-2026-atelier-am-heizhaus
LOCATION:Atelier Am Heizhaus\, Bahnhofstraße 49 a\, 14612 Falkensee
X-APPLE-STRUCTURED-LOCATION;VALUE=URI;X-ADDRESS="Atelier Am Heizhaus, Bahnh
 ofstraße 49 a, 14612 Falkensee";X-APPLE-RADIUS=49;X-TITLE=Atelier Am Heiz
 haus:geo:13.094540,52.564013
GEO:13.094540;52.564013
SUMMARY:Offene Ateliers 2026 -  Atelier Am Heizhaus
CLASS:PUBLIC
DESCRIPTION:Grafik \, Malerei\, Linolschnittreliefs\n\nFührungen durch das
  Atelier mit der Künstlerin 14:30 Uhr und 17 Uhr\n\nKontakt:\n\nLandkreis
  Havelland\nPlatz der Freiheit 1\n14712 Rathenow\nTelefon: \nEmail: \n\nWe
 itere Informationen zur Veranstaltung: http://www.reiseland-brandenburg.de
 /veranstaltung/havelland/offene-ateliers-2026-atelier-am-heizhaus
CATEGORIES:Ausstellung
DTSTAMP:20260422T112931Z
END:VEVENT
END:VCALENDAR