BEGIN:VCALENDAR
VERSION:2.0
PRODID:www.reiseland-brandenburg.de
BEGIN:VEVENT
UID:69e8b1166d11f
DTSTART:20260502T120000Z
SEQUENCE:0
TRANSP:OPAQUE
DTEND:20260502T160000Z
URL:http://www.reiseland-brandenburg.de/veranstaltung/havelland/offene-atel
 iers-2026-atelier-petroula-papalexandrou
LOCATION:Atelier Petroula Papalexandrou\, Hirschsprung  22\, 14612 Falkense
 e
X-APPLE-STRUCTURED-LOCATION;VALUE=URI;X-ADDRESS="Atelier Petroula Papalexan
 drou, Hirschsprung  22, 14612 Falkensee";X-APPLE-RADIUS=49;X-TITLE=Atelier
  Petroula Papalexandrou:geo:13.055619,52.578461
GEO:13.055619;52.578461
SUMMARY:Offene Ateliers 2026 -  Atelier Petroula Papalexandrou
CLASS:PUBLIC
DESCRIPTION:freie Kunst \, Malerei\, Monotypie\n\nKontakt:\n\nLandkreis Hav
 elland\nPlatz der Freiheit 1\n14712 Rathenow\nTelefon: \nEmail: \n\nWeiter
 e Informationen zur Veranstaltung: http://www.reiseland-brandenburg.de/ver
 anstaltung/havelland/offene-ateliers-2026-atelier-petroula-papalexandrou
CATEGORIES:Ausstellung
DTSTAMP:20260422T112927Z
END:VEVENT
BEGIN:VEVENT
UID:69e8b11724f74
DTSTART:20260503T090000Z
SEQUENCE:0
TRANSP:OPAQUE
DTEND:20260503T160000Z
URL:http://www.reiseland-brandenburg.de/veranstaltung/havelland/offene-atel
 iers-2026-atelier-petroula-papalexandrou
LOCATION:Atelier Petroula Papalexandrou\, Hirschsprung  22\, 14612 Falkense
 e
X-APPLE-STRUCTURED-LOCATION;VALUE=URI;X-ADDRESS="Atelier Petroula Papalexan
 drou, Hirschsprung  22, 14612 Falkensee";X-APPLE-RADIUS=49;X-TITLE=Atelier
  Petroula Papalexandrou:geo:13.055619,52.578461
GEO:13.055619;52.578461
SUMMARY:Offene Ateliers 2026 -  Atelier Petroula Papalexandrou
CLASS:PUBLIC
DESCRIPTION:freie Kunst \, Malerei\, Monotypie\n\nKontakt:\n\nLandkreis Hav
 elland\nPlatz der Freiheit 1\n14712 Rathenow\nTelefon: \nEmail: \n\nWeiter
 e Informationen zur Veranstaltung: http://www.reiseland-brandenburg.de/ver
 anstaltung/havelland/offene-ateliers-2026-atelier-petroula-papalexandrou
CATEGORIES:Ausstellung
DTSTAMP:20260422T112927Z
END:VEVENT
END:VCALENDAR