BEGIN:VCALENDAR
VERSION:2.0
PRODID:www.reiseland-brandenburg.de
BEGIN:VEVENT
UID:69e89d7c1c2a2
DTSTART:20260502T120000Z
SEQUENCE:0
TRANSP:OPAQUE
DTEND:20260502T160000Z
URL:http://www.reiseland-brandenburg.de/veranstaltung/havelland/offene-atel
 iers-2026-atelier-petra-sauer
LOCATION:Atelier Petra Sauer\, Wansdorfer Straße 11\, 14612 Falkensee
X-APPLE-STRUCTURED-LOCATION;VALUE=URI;X-ADDRESS="Atelier Petra Sauer, Wansd
 orfer Straße 11, 14612 Falkensee";X-APPLE-RADIUS=49;X-TITLE=Atelier Petra
  Sauer:geo:13.102051,52.570008
GEO:13.102051;52.570008
SUMMARY:Offene Ateliers 2026 -  Atelier Petra Sauer
CLASS:PUBLIC
DESCRIPTION:Malerei\n\nMalkinder mit ihren Werken\n\nKontakt:\n\nLandkreis 
 Havelland\nPlatz der Freiheit 1\n14712 Rathenow\nTelefon: \nEmail: \n\nWei
 tere Informationen zur Veranstaltung: http://www.reiseland-brandenburg.de/
 veranstaltung/havelland/offene-ateliers-2026-atelier-petra-sauer
CATEGORIES:Ausstellung
DTSTAMP:20260422T100548Z
END:VEVENT
BEGIN:VEVENT
UID:69e89d7c23a79
DTSTART:20260503T090000Z
SEQUENCE:0
TRANSP:OPAQUE
DTEND:20260503T160000Z
URL:http://www.reiseland-brandenburg.de/veranstaltung/havelland/offene-atel
 iers-2026-atelier-petra-sauer
LOCATION:Atelier Petra Sauer\, Wansdorfer Straße 11\, 14612 Falkensee
X-APPLE-STRUCTURED-LOCATION;VALUE=URI;X-ADDRESS="Atelier Petra Sauer, Wansd
 orfer Straße 11, 14612 Falkensee";X-APPLE-RADIUS=49;X-TITLE=Atelier Petra
  Sauer:geo:13.102051,52.570008
GEO:13.102051;52.570008
SUMMARY:Offene Ateliers 2026 -  Atelier Petra Sauer
CLASS:PUBLIC
DESCRIPTION:Malerei\n\nMalkinder mit ihren Werken\n\nKontakt:\n\nLandkreis 
 Havelland\nPlatz der Freiheit 1\n14712 Rathenow\nTelefon: \nEmail: \n\nWei
 tere Informationen zur Veranstaltung: http://www.reiseland-brandenburg.de/
 veranstaltung/havelland/offene-ateliers-2026-atelier-petra-sauer
CATEGORIES:Ausstellung
DTSTAMP:20260422T100548Z
END:VEVENT
END:VCALENDAR