BEGIN:VCALENDAR
VERSION:2.0
PRODID:www.reiseland-brandenburg.de
BEGIN:VEVENT
UID:69e8b117553a3
DTSTART:20260502T120000Z
SEQUENCE:0
TRANSP:OPAQUE
DTEND:20260502T160000Z
URL:http://www.reiseland-brandenburg.de/veranstaltung/havelland/offene-atel
 iers-2026-atelier-wolfgang-bodien
LOCATION:Atelier Wolfgang Bodien\, Zaunkönigstraße 8\, 14612 Falkensee
X-APPLE-STRUCTURED-LOCATION;VALUE=URI;X-ADDRESS="Atelier Wolfgang Bodien, Z
 aunkönigstraße 8, 14612 Falkensee";X-APPLE-RADIUS=49;X-TITLE=Atelier Wol
 fgang Bodien:geo:13.056222,52.553235
GEO:13.056222;52.553235
SUMMARY:Offene Ateliers 2026 -  Atelier Wolfgang Bodien
CLASS:PUBLIC
DESCRIPTION:Bildhauerei \, Malerei\, Kunsthandwerk\n\nKontakt:\n\nLandkreis
  Havelland\nPlatz der Freiheit 1\n14712 Rathenow\nTelefon: \nEmail: \n\nWe
 itere Informationen zur Veranstaltung: http://www.reiseland-brandenburg.de
 /veranstaltung/havelland/offene-ateliers-2026-atelier-wolfgang-bodien
CATEGORIES:Ausstellung
DTSTAMP:20260422T112927Z
END:VEVENT
BEGIN:VEVENT
UID:69e8b117b64f8
DTSTART:20260503T090000Z
SEQUENCE:0
TRANSP:OPAQUE
DTEND:20260503T160000Z
URL:http://www.reiseland-brandenburg.de/veranstaltung/havelland/offene-atel
 iers-2026-atelier-wolfgang-bodien
LOCATION:Atelier Wolfgang Bodien\, Zaunkönigstraße 8\, 14612 Falkensee
X-APPLE-STRUCTURED-LOCATION;VALUE=URI;X-ADDRESS="Atelier Wolfgang Bodien, Z
 aunkönigstraße 8, 14612 Falkensee";X-APPLE-RADIUS=49;X-TITLE=Atelier Wol
 fgang Bodien:geo:13.056222,52.553235
GEO:13.056222;52.553235
SUMMARY:Offene Ateliers 2026 -  Atelier Wolfgang Bodien
CLASS:PUBLIC
DESCRIPTION:Bildhauerei \, Malerei\, Kunsthandwerk\n\nKontakt:\n\nLandkreis
  Havelland\nPlatz der Freiheit 1\n14712 Rathenow\nTelefon: \nEmail: \n\nWe
 itere Informationen zur Veranstaltung: http://www.reiseland-brandenburg.de
 /veranstaltung/havelland/offene-ateliers-2026-atelier-wolfgang-bodien
CATEGORIES:Ausstellung
DTSTAMP:20260422T112927Z
END:VEVENT
END:VCALENDAR