BEGIN:VCALENDAR
VERSION:2.0
PRODID:www.reiseland-brandenburg.de
BEGIN:VEVENT
UID:69ea187295769
DTSTART:20260619T083000Z
SEQUENCE:0
TRANSP:OPAQUE
DTEND:20260619T133000Z
URL:http://www.reiseland-brandenburg.de/veranstaltung/flaeming/erlebnistour
 -green-donkey-eselwanderung-von-bahnhof-zu-bahnhof
LOCATION:Bahnhof Baitz\, Bahnhofstraße 1\, 14822 Brück
X-APPLE-STRUCTURED-LOCATION;VALUE=URI;X-ADDRESS="Bahnhof Baitz, Bahnhofstra
 ße 1, 14822 Brück";X-APPLE-RADIUS=49;X-TITLE=Bahnhof Baitz:geo:12.758273
 ,52.191369
GEO:12.758273;52.191369
SUMMARY:ErlebnisTour: Green-Donkey Eselwanderung von Bahnhof zu Bahnhof
CLASS:PUBLIC
DESCRIPTION:Diese Eselwanderung (Streckenwanderung) lädt besonders Großst
 ädter ein\, durch die Nutzung des Regionalexpresses RE7 als Anreisealtern
 ative\, schnell\, entspannt und umweltschonend Fläminger Landluft zu schn
 uppern. Das Wandergepäck wird vertrauensvoll am Bahnhof Baitz den Eseln 
 übergeben. Die langohrigen Begleiter sorgen somit für Freiheit für Kopf
  und Körper auf dieser besonderen Wanderung.\n\nEntlang des Naturschutzge
 bietes Belziger Landschaftswiesen kann die Weite\, die dieser Landschaftsr
 aum bereithält\, genossen werden. In Trebitz wird der größte Fluss des 
 Hohen Flämings\, die Plane überquert. Die Abschlussetappe führt auf der
  nachhaltigen \"Grünen-Eselwanderung\" entlang eines kleinen lehr- und wa
 ldreichen Pfades\, parallel zur Kleinen Plane\, direkt zum Bahnhof der Sta
 dt Brück. Hier gibt es die Möglichkeit einzukehren.\n\n Diese Führung i
 st ein Angebot der „Ranger- und Erlebnistouren“.\n\nKontakt:\n\nEselno
 maden\nAlte-Dorfstraße 9\n14822 Brück Neuendorf\nTelefon: +49 1573 03085
 60\nEmail: info@eselnomaden.de\n\nWeitere Informationen zur Veranstaltung:
  http://www.reiseland-brandenburg.de/veranstaltung/flaeming/erlebnistour-g
 reen-donkey-eselwanderung-von-bahnhof-zu-bahnhof
CATEGORIES:Exkursion / Wanderung
DTSTAMP:20260423T130242Z
END:VEVENT
END:VCALENDAR