BEGIN:VCALENDAR
VERSION:2.0
PRODID:www.reiseland-brandenburg.de
BEGIN:VEVENT
UID:69ea37e55af4a
DTSTART:20260501T180000Z
SEQUENCE:0
TRANSP:OPAQUE
DTEND:20260501T203000Z
URL:http://www.reiseland-brandenburg.de/veranstaltung/uckermark/thomsdorfki
 no-unsere-kleine-schwester
LOCATION:Kunsthandwerkerhof Thomsdorf\, Thomsdorf 36a\, 17268 Boitzenburger
  Land
X-APPLE-STRUCTURED-LOCATION;VALUE=URI;X-ADDRESS="Kunsthandwerkerhof Thomsdo
 rf, Thomsdorf 36a, 17268 Boitzenburger Land";X-APPLE-RADIUS=49;X-TITLE=Kun
 sthandwerkerhof Thomsdorf:geo:13.461956,53.282492
GEO:13.461956;53.282492
SUMMARY:ThomsdorfKino - Unsere kleine Schwester
CLASS:PUBLIC
DESCRIPTION:Unsere kleine Schwester (Japan 2015)\n\nAuf der Beerdigung ihre
 s Vaters lernen drei junge Frauen ihre kleine Halbschwester Suzu kennen. N
 ichts ist einfach in dieser Familie. Der Vater hatte seine älteren Töcht
 er schon Jahre zuvor verlassen. Die Mutter war auch früh gegangen. Auf si
 ch gestellt mußten die drei Mädchen beizeiten erwachsen werden. Wohl auc
 h deshalb bieten sie ihrer 13jährigen Halbschwester an\, zu ihnen zu zieh
 en. Die schüchterne Suzu nimmt die Einladung an und nun beginnt für die 
 vier ein neues Leben. Verantwortung und Liebe\, Melancholie und Heiterkeit
 \, Vergangenheit und Gegenwart finden Platz in ihrem Miteinander. Der Film
  des Meisterregisseurs Hirokazu Koreeda lief im Wettbewerb des Internation
 alen Filmfestivals von Cannes.\n\n01.05.26 um 20.00 Uhr Kunsthandwerkerhof
  Thomsdorf\n\nKontakt:\n\nKunsthandwerkerhof Thomsdorf\nThomsdorf 36a\n172
 68 Boitzenburger Land\nTelefon: +49 039889 86243\nEmail: kulturverein@kuns
 thandwerkerhof-thomsdorf.de\nWebseite: https://www.kunsthandwerkerhof-thom
 sdorf.de/\n\nWeitere Informationen zur Veranstaltung: http://www.reiseland
 -brandenburg.de/veranstaltung/uckermark/thomsdorfkino-unsere-kleine-schwes
 ter
CATEGORIES:Film
DTSTAMP:20260423T151653Z
END:VEVENT
END:VCALENDAR