BEGIN:VCALENDAR
VERSION:2.0
PRODID:www.reiseland-brandenburg.de
BEGIN:VEVENT
UID:69ea01cde4bcb
DTSTART:20260503T080000Z
SEQUENCE:0
TRANSP:OPAQUE
DTEND:20260503T150000Z
URL:http://www.reiseland-brandenburg.de/veranstaltung/ruppiner-seenland/off
 ener-garten-mit-hofkrempelmarkt
LOCATION:Linow Dorfstraße 5\, Dorfstraße 5\, 16831 Rheinsberg
X-APPLE-STRUCTURED-LOCATION;VALUE=URI;X-ADDRESS="Linow Dorfstraße 5, Dorfs
 traße 5, 16831 Rheinsberg";X-APPLE-RADIUS=49;X-TITLE=Linow Dorfstraße 5:
 geo:12.829149,53.097653
GEO:12.829149;53.097653
SUMMARY:Offener Garten mit Hofkrempelmarkt
CLASS:PUBLIC
DESCRIPTION:In einem frühlingshaften bunten Garten genießen sie beim Bumm
 eln Kaffee und Kuchen.\n\nKontakt:\n\nRemise am Schloss\nMühlenstraße 15
 a\n16831 Rheinsberg\nTelefon: \nEmail: info@tourist-information-rheinsberg
 .de\n\nWeitere Informationen zur Veranstaltung: http://www.reiseland-brand
 enburg.de/veranstaltung/ruppiner-seenland/offener-garten-mit-hofkrempelmar
 kt
CATEGORIES:Fest / Brauchtum,Fest / Brauchtum,Markt
DTSTAMP:20260423T112605Z
END:VEVENT
END:VCALENDAR