BEGIN:VCALENDAR
VERSION:2.0
PRODID:www.reiseland-brandenburg.de
BEGIN:VEVENT
UID:69e8b0dd54e03
DTSTART:20260430T160000Z
SEQUENCE:0
TRANSP:OPAQUE
DTEND:20260430T183000Z
URL:http://www.reiseland-brandenburg.de/veranstaltung/lausitzer-seenland/12
 9-forster-geschichtsstammtisch
LOCATION:Parkplatz am Begegnungsfeld Klinge\, PGW9+9G\, 03149 Wiesengrund\,
   
X-APPLE-STRUCTURED-LOCATION;VALUE=URI;X-ADDRESS="Parkplatz am Begegnungsfel
 d Klinge, PGW9+9G, 03149 Wiesengrund,  ";X-APPLE-RADIUS=49;X-TITLE=Parkpla
 tz am Begegnungsfeld Klinge:geo:14.646137,51.744278
GEO:14.646137;51.744278
SUMMARY:129. Forster Geschichtsstammtisch
CLASS:PUBLIC
DESCRIPTION:Klinge - ein fast verschwundener Ort mit viel Geschichte\n\nTro
 tz der umfangreichen Verluste des Dorfes Klinge durch die Devastierungsma
 ßnahmen zwischen 1978-1982 und den Folgebetrieb des Tagebaus Jänschwalde
  ist es auch heute noch ein Ort lebendiger Geschichte. Zwischen Klinger Se
 e - Raubrittertor und dem Freilichtmuseum \"Zeitsprung\" sind dazu interes
 sante Hinweise und Spuren zu finden.Gemeinsam mit dem Heimatverein Klinge 
 e. V. macht sich der \"Forster Geschichtsstammtisch\" auf den Weg\, diese 
 zu entdecken\, zumal einige den Ort Klinge über Zeitungsschlagzeilen welt
 bekannt gemacht haben.\n\nKontakt:\n\nMuseumsverein der Stadt Forst (Lausi
 tz) e. V.\nSorauer Straße 37\n03149 Forst (Lausitz)\nTelefon: +49 03562 9
 7356\nEmail: museumsverein-forst@gmx.de\nWebseite: https://museumsverein-f
 orst.de/\n\nWeitere Informationen zur Veranstaltung: http://www.reiseland-
 brandenburg.de/veranstaltung/lausitzer-seenland/129-forster-geschichtsstam
 mtisch
CATEGORIES:Führung / Besichtigung
DTSTAMP:20260422T112829Z
END:VEVENT
END:VCALENDAR