BEGIN:VCALENDAR
VERSION:2.0
PRODID:www.reiseland-brandenburg.de
BEGIN:VEVENT
UID:69ea55e0113ea
DTSTART:20260425T170000Z
SEQUENCE:0
TRANSP:OPAQUE
DTEND:20260425T190000Z
URL:http://www.reiseland-brandenburg.de/veranstaltung/uckermark/warnitzer-l
 esungen-mircea-cartarescu-theodorus-punkt-vorgestellt-von-seinem-uebersetz
 er-ernest-wichner
LOCATION:Gasthof Deutsche Eiche\, Lindenallee 54a\, 17291 Oberuckersee
X-APPLE-STRUCTURED-LOCATION;VALUE=URI;X-ADDRESS="Gasthof Deutsche Eiche, Li
 ndenallee 54a, 17291 Oberuckersee";X-APPLE-RADIUS=49;X-TITLE=Gasthof Deuts
 che Eiche:geo:13.877085,53.186526
GEO:13.877085;53.186526
SUMMARY:Warnitzer Lesungen: Mircea Cărtărescu – Theodorus.  Vorgestell
 t von seinem Übersetzer Ernest Wichner
CLASS:PUBLIC
DESCRIPTION:Dass der **äthiopische Kaiser Theodoros** im Jahr 1855 gekrön
 t wurde und sich dreizehn Jahre später angesichts der drohenden Gefangenn
 ahme durch die britische Kolonialmacht erschoss\, ist historisch belegt. D
 och **der immense Rest des Romans besteht aus Mircea Cărtărescus Phantas
 ie**. Sein Buch erzählt von einer Welt voller Edelsteine\, Schleier und W
 affen. Und das alles in der faszinierend bunten Bildprache des orthodoxen 
 Christentums: „Die Handlung wird von oben betrachtet\, von den Erzengeln
 . Sie erzählen die Geschichte dieses Theodoros für das Jüngste Gericht.
  Dann wird Gott als der große Leser entscheiden\, ob Theodoros zur Hölle
  fährt oder in den Himmel kommt.“ Hier\, bei Cărtărescu\, hat das Jü
 ngste Gericht natürlich ein konkretes Datum\, es findet am 4. Februar 204
 1 statt.    \n**„Theodoros“ ist mehr als ein historischer Abenteuerrom
 an\, er umfaßt ebenso Philosophie\, Märchen und Mythos.** Mehr als vier 
 Jahrzehnte schrieb Mircea Cărtărescu an diesem faszinierenden\, überbor
 denden Buch. Dabei  ließ er sich **vom magischen Realismus der großen la
 teinamerikanischen Schriftsteller Joge Luis Borges und Gabriel Gárcia Má
 rquez** inspirieren.\n\n**Ernest Wichner** \, Übersetzer und selbst Autor
 \, hat dieses sprachgewaltige\, **faszinierende Buches   des rumänischen 
 Autors brilliant übersetzt**. Er **stellt es in Lesung und Gespräch vor 
 und führt uns durch das Labyrinth dieses unglaublichen Romans**.\n\nKonta
 kt:\n\nWarnitzer Lesungen\nFriedhofstr. 3\n17291 Oberuckersee\nTelefon: \n
 Email: info@warnitzerlesungen.de\nWebseite: https://warnitzerlesungen.de/\
 n\nWeitere Informationen zur Veranstaltung: http://www.reiseland-brandenbu
 rg.de/veranstaltung/uckermark/warnitzer-lesungen-mircea-cartarescu-theodor
 us-punkt-vorgestellt-von-seinem-uebersetzer-ernest-wichner
CATEGORIES:Lesung / Vortrag
DTSTAMP:20260423T172448Z
END:VEVENT
END:VCALENDAR