BEGIN:VCALENDAR
VERSION:2.0
PRODID:www.reiseland-brandenburg.de
BEGIN:VEVENT
UID:69ea3578e62c2
DTSTART:20260531T130000Z
SEQUENCE:0
TRANSP:OPAQUE
DTEND:20260531T140000Z
URL:http://www.reiseland-brandenburg.de/veranstaltung/seenland-oder-spree/s
 onntag-um-drei-live-ilimitado-ponce-kaergel-und-schneider
LOCATION:Das-Gut.org - ehemalige Brennerei Cöthen - KunsTechniKiosk\, Cöt
 hen 66\, 16259 Falkenberg Mark
X-APPLE-STRUCTURED-LOCATION;VALUE=URI;X-ADDRESS="Das-Gut.org - ehemalige Br
 ennerei Cöthen - KunsTechniKiosk, Cöthen 66, 16259 Falkenberg Mark";X-AP
 PLE-RADIUS=49;X-TITLE=Das-Gut.org - ehemalige Brennerei Cöthen - KunsTech
 niKiosk:geo:13.956792,52.805047
GEO:13.956792;52.805047
SUMMARY:Sonntag um Drei - Live - ilimitado - Ponce Kärgel & Schneider
CLASS:PUBLIC
DESCRIPTION:**Im großen\, lichten Saal der ehemaligen Brennerei Cöthen - 
 #DAS-GUT.org - zwischen Eberswalde und Bad Freienwalde finden jeden letzte
 n Sonntag um Drei Live-Konzerte eigenwilliger Musiker*innen statt.  **\n\n
 **Am 31.Mai begrüßen wir das virtuose Gitarren Duo ilimitado.**\n\n**Mar
 co Ponce Kärgel: akustische Gitarre\, Komposition**  \n**Sven Schneider: 
 akustische Gitarre\, Komposition**  \n  \n**Die Musik erzählt Geschichten
 : Filigran\, energiegeladen und expressiv spielen Marco Ponce Kärgel und 
 Sven Schneider instrumentale Eigenkompositionen. Schöne Melodien treffen 
 auf schräge Töne\, ineinandergedrehte Rhythmen auf klare Strukturen. Der
  Zuhörer gerät auf eine schraffierte Reise wundersam erfrischender Klang
 welten.**\n\n**Bar in der Maschinenhalle geöffnet\; Getränke und Snacks\
 ; Sitzgelegenheiten\, Hofgarten\, Denkmal: Die älteste am Originalstandor
 t befindliche Dampfmaschine in Berlin und Brandenburg zugänglich.**\n\nKo
 ntakt:\n\nDAS-GUT.org - ehemalige Brennerei Cöthen - KunsTechniKiosk\nCö
 then 66\n16259 Falkenberg\nTelefon: \nEmail: box@das-gut.org\nWebseite: ht
 tps://das-gut.org/rechtliches-impressum.html\n\nWeitere Informationen zur 
 Veranstaltung: http://www.reiseland-brandenburg.de/veranstaltung/seenland-
 oder-spree/sonntag-um-drei-live-ilimitado-ponce-kaergel-und-schneider
CATEGORIES:Rock / Pop / Jazz,Klassisches Konzert / Oper,Chor / Folklore / V
 olksmusik
DTSTAMP:20260423T150632Z
END:VEVENT
END:VCALENDAR