BEGIN:VCALENDAR
VERSION:2.0
PRODID:www.reiseland-brandenburg.de
BEGIN:VEVENT
UID:69ed02646532d
DTSTART:20260509T160000Z
SEQUENCE:0
TRANSP:OPAQUE
DTEND:20260509T173000Z
URL:http://www.reiseland-brandenburg.de/veranstaltung/barnimer-land/filmabe
 nd-where-to
LOCATION:Bürgerbildungszentrum Amadeu Antonio\, Puschkinstr. 13\, 16225 Eb
 erswalde
X-APPLE-STRUCTURED-LOCATION;VALUE=URI;X-ADDRESS="Bürgerbildungszentrum Ama
 deu Antonio, Puschkinstr. 13, 16225 Eberswalde";X-APPLE-RADIUS=49;X-TITLE=
 Bürgerbildungszentrum Amadeu Antonio:geo:13.813537,52.832916
GEO:13.813537;52.832916
SUMMARY:Filmabend: Where to?
CLASS:PUBLIC
DESCRIPTION:Den fürsorglichen palästinensischen Familienvater Hassan und 
 den jungen schwulen Israeli Amir trennen Welten. Aber in Hassans Taxi auf 
 den nächtlichen Straßen Berlins treffen sie in einem episodischen Kammer
 spiel auf vier Rädern immer wieder aufeinander und entdecken\, dass sie e
 twas verbindet. \n\nHassan\, ein freundlicher\, bäriger Typ\, Vater von d
 rei Töchtern mit leichtem Bauchansatz und gutmütigem Blick\, bringt mit 
 seinem Taxi Nacht für Nacht die Berliner Jugend zu ihren Partys oder nach
  Hause. Nebenher regelt er sein Privatleben per Telefon am Steuer. Er ist 
 zurückhaltend und diskret\, aber ein guter Zuhörer mit Grundkenntnissen 
 in Englisch\, Deutsch und Hebräisch. \n\nEines Nachts taumelt Amir in Has
 sans Auto. Die Familien der beiden kommen zwar aus derselben Gegend\, doch
  ansonsten verbindet den palästinensischen Familienvater und den israelis
 chen jungen Mann wenig. Und trotzdem bringt etwas die beiden immer wieder 
 in Hassans Taxi zusammen und lässt sie entdecken\, dass sich Teile ihres 
 Lebens spiegeln. \n\nZwei Jahre lang sitzen wir in Episoden bei Hassan im 
 Nachttaxi\, der mit dem Partner seiner Tochter hadert und immer noch nicht
  die Frau aus dem Kopf bekommt\, deretwegen er vor 30 Jahren nach Berlin k
 am. Es sind die Begegnungen mit Amir\, die ihn zunehmend anders auf sein L
 eben blicken lassen. \n\n| WHERE TO? |   \n| Israel 2026\, Regie: Assaf Ma
 chnes\, 95 Minuten |\n\n| Filmvorführung im Bürgerbildungszentrum Amadeu
  Antonio |   \n| Sa.\, 09.05.2026\, 18:00 Uhr\, Eintritt frei |   \n| Vera
 nstalter: Freundeskreis Israel in Eberswalde e.V. |\n\nKontakt:\n\nFreunde
 skreis Israel in Eberswalde e.V.\n\n \nTelefon: \nEmail: \n\nWeitere Infor
 mationen zur Veranstaltung: http://www.reiseland-brandenburg.de/veranstalt
 ung/barnimer-land/filmabend-where-to
CATEGORIES:Film
DTSTAMP:20260425T180524Z
END:VEVENT
END:VCALENDAR