BEGIN:VCALENDAR
VERSION:2.0
PRODID:www.reiseland-brandenburg.de
BEGIN:VEVENT
UID:69ed00fd263c4
DTSTART:20260507T160000Z
SEQUENCE:0
TRANSP:OPAQUE
DTEND:20260507T173000Z
URL:http://www.reiseland-brandenburg.de/veranstaltung/barnimer-land/filmabe
 nd-the-vanishing-soldier
LOCATION:Bürgerbildungszentrum Amadeu Antonio\, Puschkinstr. 13\, 16225 Eb
 erswalde
X-APPLE-STRUCTURED-LOCATION;VALUE=URI;X-ADDRESS="Bürgerbildungszentrum Ama
 deu Antonio, Puschkinstr. 13, 16225 Eberswalde";X-APPLE-RADIUS=49;X-TITLE=
 Bürgerbildungszentrum Amadeu Antonio:geo:13.813537,52.832916
GEO:13.813537;52.832916
SUMMARY:Filmabend: The Vanishing Soldier
CLASS:PUBLIC
DESCRIPTION:Shlomi\, ein 18-jähriger israelischer Soldat\, der im Gazastre
 ifen seinen Wehrdienst leistet\, hat die Nase voll. Auch ohne Erlaubnis be
 schließt er\, zu seiner Freundin nach Tel Aviv zurückzukehren. Doch dort
  muss er festzustellen\, dass alle glauben\, er sei im Krieg entführt wor
 den. Die nächsten 24 Stunden ist Shlomi ständig auf der Flucht. \n\nInmi
 tten von Explosionen und Rauch\, rennenden\, schreienden und Befehle befol
 genden Soldaten\, folgt Shlomi im Schutz der Dunkelheit seinen eigenen Bei
 nen. Und die führen ihn an einen Ort\, an dem er nicht gesehen wird. Er r
 ennt um sein Leben\, nach Hause\, weit weg vom Schlachtfeld. Sehr schnell 
 erfährt er\, dass alle glauben\, er sei während des Kampfes entführt wo
 rden. Doch das macht seine Flucht nur noch intensiver. Shlomi kann nicht a
 ufhören\, sich zu bewegen\, denn niemand kann ihn wirklich beschützen 
 – nicht seine Mutter\, nicht die Zivilbevölkerung\, nicht die Armee und
  nicht der Staat. Nirgendwo gibt es eine Atempause vom Krieg\, nicht einma
 l im urbanen Tel Aviv. Auf der Flucht werden seine Lebenskräfte immer st
 ärker\, wie ein menschlicher Generator – er will vollkommen lieben\, di
 e ganze Luft atmen\, sich die Lunge aus dem Leib schreien. Er ist erst 18 
 Jahre alt. \n\nMit THE VANISHING SOLDIER beweist Regisseur Danny Rosenberg
 \, dass er das Medium Film perfekt beherrscht\, fesselnd und poetisch zugl
 eich. Der Film\, der lange vor dem aktuellen Krieg in Gaza produziert und 
 auf dem Locarno Film Festival gezeigt wurde\, zeichnet ein existenzielles 
 Bild der Jugend in Israel. Selbst wenn man in diesem Land vor dem Krieg da
 vonläuft\, wird er einen immer irgendwann einholen. \n\n| THE VANISHING S
 OLDIER |   \n| Israel 2023\, Regie: Dani Rosenberg\, 89 Minuten |\n\n| Fil
 mvorführung im Bürgerbildungszentrum Amadeu Antonio |   \n| Do.\, 07.05.
 2026\, 18:00 Uhr\, Eintritt frei |   \n| Veranstalter: Freundeskreis Israe
 l in Eberswalde e.V. |\n\nKontakt:\n\nFreundeskreis Israel in Eberswalde e
 .V.\n\n \nTelefon: \nEmail: \n\nWeitere Informationen zur Veranstaltung: h
 ttp://www.reiseland-brandenburg.de/veranstaltung/barnimer-land/filmabend-t
 he-vanishing-soldier
CATEGORIES:Film
DTSTAMP:20260425T175925Z
END:VEVENT
END:VCALENDAR