BEGIN:VCALENDAR
VERSION:2.0
PRODID:www.reiseland-brandenburg.de
BEGIN:VEVENT
UID:69e7e74069cc4
DTSTART:20260503T080000Z
SEQUENCE:0
TRANSP:OPAQUE
DTEND:20260503T160000Z
URL:http://www.reiseland-brandenburg.de/veranstaltung/havelland/offene-atel
 iers-2026-atelier-kathrin-renner
LOCATION:Atelier Kathrin Renner\, Anschützstr. 26a\, 14612 Falkensee
X-APPLE-STRUCTURED-LOCATION;VALUE=URI;X-ADDRESS="Atelier Kathrin Renner, An
 schützstr. 26a, 14612 Falkensee";X-APPLE-RADIUS=49;X-TITLE=Atelier Kathri
 n Renner:geo:13.083104,52.554946
GEO:13.083104;52.554946
SUMMARY:Offene Ateliers 2026 -  Atelier Kathrin Renner
CLASS:PUBLIC
DESCRIPTION:Textilkunst\n\n13 - 14 Uhr: Lieder des Herzens aus aller Welt g
 emeinsam mit Martina Mai\n\nKontakt:\n\nLandkreis Havelland\nPlatz der Fre
 iheit 1\n14712 Rathenow\nTelefon: \nEmail: \n\nWeitere Informationen zur V
 eranstaltung: http://www.reiseland-brandenburg.de/veranstaltung/havelland/
 offene-ateliers-2026-atelier-kathrin-renner
CATEGORIES:Ausstellung
DTSTAMP:20260421T210816Z
END:VEVENT
END:VCALENDAR