BEGIN:VCALENDAR
VERSION:2.0
PRODID:www.reiseland-brandenburg.de
BEGIN:VEVENT
UID:69ea050caba05
DTSTART:20260519T160000Z
SEQUENCE:0
TRANSP:OPAQUE
DTEND:20260519T183000Z
URL:http://www.reiseland-brandenburg.de/veranstaltung/potsdam/die-fruehjahr
 spilze
LOCATION:Haus der Natur\, Lindenstraße 34\, 14467 Potsdam
X-APPLE-STRUCTURED-LOCATION;VALUE=URI;X-ADDRESS="Haus der Natur, Lindenstra
 ße 34, 14467 Potsdam";X-APPLE-RADIUS=49;X-TITLE=Haus der Natur:geo:13.051
 300,52.396302
GEO:13.051300;52.396302
SUMMARY:Die Frühjahrspilze
CLASS:PUBLIC
DESCRIPTION:Wer denkt\, Pilze kann man nur im Herbst finden liegt falsch! D
 enn auch im Frühjahr kann man sie entdecken.\n\nDer Themenabend „Frühj
 ahrspilze“ findet am 19. Mai von 18:00 bis 20:30 Uhr im Versammlungsraum
  des Haus der Natur statt. Unter der Leitung von **Tamara Pilz-Hunter** un
 d in Zusammenarbeit mit dem IMM widmet sich die Veranstaltung der Vielfalt
  der Pilze im Frühjahr. Im Mittelpunkt stehen die Nachbestimmung von Fund
 en einer Exkursion auf den Langedammwiesen sowie die Vorstellung typischer
  Frühjahrspilze wie Maipilze\, Morcheln und Rötlinge – inklusive mögl
 icher Doppelgänger.  \nDarüber hinaus werden auch andere Pilzgruppen beh
 andelt\, etwa ganzjährig vorkommende Arten wie Porlinge und Becherlinge s
 owie phytoparasitische Kleinpilze. Eigene Funde können unabhängig von de
 r Jahreszeit mitgebracht und vor Ort gemeinsam bestimmt werden. Bestimmung
 sliteratur steht ebenso zur Verfügung wie Tee\, Kaffee und kleine Snacks.
 \n\nKontakt:\n\nNABU Brandenburg e.V.\nMartin Neufeld\nBreite Straße 9 A\
 n14467 Potsdam\nTelefon: \nEmail: neufeld@nabu-brandenburg.de\n\nWeitere I
 nformationen zur Veranstaltung: http://www.reiseland-brandenburg.de/verans
 taltung/potsdam/die-fruehjahrspilze
CATEGORIES:Lesung / Vortrag
DTSTAMP:20260423T113956Z
END:VEVENT
END:VCALENDAR