BEGIN:VCALENDAR
VERSION:2.0
PRODID:www.reiseland-brandenburg.de
BEGIN:VEVENT
UID:69e7b7d11f43c
DTSTART:20260502T090000Z
SEQUENCE:0
TRANSP:OPAQUE
DTEND:20260502T110000Z
URL:http://www.reiseland-brandenburg.de/veranstaltung/seenland-oder-spree/e
 insetzen-der-tiere-oeffnung-schildkroetengehege
LOCATION:Löcknitzcampus Grünheide\, An der Löcknitz 1\, 15537 
X-APPLE-STRUCTURED-LOCATION;VALUE=URI;X-ADDRESS="Löcknitzcampus Grünheide
 , An der Löcknitz 1, 15537 ";X-APPLE-RADIUS=49;X-TITLE=Löcknitzcampus Gr
 ünheide:geo:13.823672,52.415208
GEO:13.823672;52.415208
SUMMARY:Einsetzen der Tiere: Öffnung Schildkrötengehege
CLASS:PUBLIC
DESCRIPTION:Die gepanzerten Tiere ziehen in ihr Sommerdomizil. Seien Sie da
 bei und tauchen mit ein in die spannende Welt der europäischen Sumpfschil
 dkröten\, die als Wappentier von Grünheide\, wieder Einzug am Löcknitzc
 ampus erhalten.\n\n \n\nKommen Sie ab 11 Uhr vorbei!\n\nEintritt ist frei\
 n\n \n\nÄnderungen wetterabhängig möglich\n\nKontakt:\n\nInteressengeme
 inschaft Wappentier Grünheide (Mark)\nMielenzstraße 20\n15537 \nTelefon:
  +49 03362 93 80 266\nEmail: info@sumpfschildkroete-gruenheide.de\nWebseit
 e: https://www.sumpfschildkroete-gruenheide.de\n\nWeitere Informationen zu
 r Veranstaltung: http://www.reiseland-brandenburg.de/veranstaltung/seenlan
 d-oder-spree/einsetzen-der-tiere-oeffnung-schildkroetengehege
CATEGORIES:Fest / Brauchtum
DTSTAMP:20260421T174553Z
END:VEVENT
END:VCALENDAR