BEGIN:VCALENDAR
VERSION:2.0
PRODID:www.reiseland-brandenburg.de
BEGIN:VEVENT
UID:69e7e73fe21f9
DTSTART:20260502T120000Z
SEQUENCE:0
TRANSP:OPAQUE
DTEND:20260502T160000Z
URL:http://www.reiseland-brandenburg.de/veranstaltung/havelland/offene-atel
 iers-2026-atelier-gisela-rus
LOCATION:Atelier Gisela Rus\, Meraner Straße 8\, 14612 Falkensee
X-APPLE-STRUCTURED-LOCATION;VALUE=URI;X-ADDRESS="Atelier Gisela Rus, Merane
 r Straße 8, 14612 Falkensee";X-APPLE-RADIUS=49;X-TITLE=Atelier Gisela Rus
 :geo:13.078569,52.578871
GEO:13.078569;52.578871
SUMMARY:Offene Ateliers 2026 -  Atelier Gisela Rus
CLASS:PUBLIC
DESCRIPTION:freie Kunst \n\nVerweilen Sie bei Kaffee und Kuchen im Garten\n
 \nKontakt:\n\nLandkreis Havelland\nPlatz der Freiheit 1\n14712 Rathenow\nT
 elefon: \nEmail: \n\nWeitere Informationen zur Veranstaltung: http://www.r
 eiseland-brandenburg.de/veranstaltung/havelland/offene-ateliers-2026-ateli
 er-gisela-rus
CATEGORIES:Ausstellung
DTSTAMP:20260421T210816Z
END:VEVENT
BEGIN:VEVENT
UID:69e7e73ff3270
DTSTART:20260503T090000Z
SEQUENCE:0
TRANSP:OPAQUE
DTEND:20260503T160000Z
URL:http://www.reiseland-brandenburg.de/veranstaltung/havelland/offene-atel
 iers-2026-atelier-gisela-rus
LOCATION:Atelier Gisela Rus\, Meraner Straße 8\, 14612 Falkensee
X-APPLE-STRUCTURED-LOCATION;VALUE=URI;X-ADDRESS="Atelier Gisela Rus, Merane
 r Straße 8, 14612 Falkensee";X-APPLE-RADIUS=49;X-TITLE=Atelier Gisela Rus
 :geo:13.078569,52.578871
GEO:13.078569;52.578871
SUMMARY:Offene Ateliers 2026 -  Atelier Gisela Rus
CLASS:PUBLIC
DESCRIPTION:freie Kunst \n\nVerweilen Sie bei Kaffee und Kuchen im Garten\n
 \nKontakt:\n\nLandkreis Havelland\nPlatz der Freiheit 1\n14712 Rathenow\nT
 elefon: \nEmail: \n\nWeitere Informationen zur Veranstaltung: http://www.r
 eiseland-brandenburg.de/veranstaltung/havelland/offene-ateliers-2026-ateli
 er-gisela-rus
CATEGORIES:Ausstellung
DTSTAMP:20260421T210816Z
END:VEVENT
END:VCALENDAR