BEGIN:VCALENDAR
VERSION:2.0
PRODID:www.reiseland-brandenburg.de
BEGIN:VEVENT
UID:69e7b7d10e408
DTSTART:20260503T090000Z
SEQUENCE:0
TRANSP:OPAQUE
DTEND:20260503T160000Z
URL:http://www.reiseland-brandenburg.de/veranstaltung/havelland/offene-atel
 iers-2026-blaues-atelier
LOCATION:Blauer Atelier\, Finkenweg 14\, 14612 Falkensee
X-APPLE-STRUCTURED-LOCATION;VALUE=URI;X-ADDRESS="Blauer Atelier, Finkenweg 
 14, 14612 Falkensee";X-APPLE-RADIUS=49;X-TITLE=Blauer Atelier:geo:13.05707
 3,52.558443
GEO:13.057073;52.558443
SUMMARY:Offene Ateliers 2026 -  Blaues Atelier
CLASS:PUBLIC
DESCRIPTION:freie Kunst \, Grafik \, Malerei \,Kunsttherapie\n\nGastkünstl
 erin: Angela Kohls - Keramik\n\nOffene Werkstatt: Plastizieren mit Ton\n\n
 Kontakt:\n\nLandkreis Havelland\nPlatz der Freiheit 1\n14712 Rathenow\nTel
 efon: \nEmail: \n\nWeitere Informationen zur Veranstaltung: http://www.rei
 seland-brandenburg.de/veranstaltung/havelland/offene-ateliers-2026-blaues-
 atelier
CATEGORIES:Ausstellung
DTSTAMP:20260421T174553Z
END:VEVENT
END:VCALENDAR