BEGIN:VCALENDAR
VERSION:2.0
PRODID:www.reiseland-brandenburg.de
BEGIN:VEVENT
UID:69e7cfb132f75
DTSTART:20260502T120000Z
SEQUENCE:0
TRANSP:OPAQUE
DTEND:20260502T160000Z
URL:http://www.reiseland-brandenburg.de/veranstaltung/havelland/offene-atel
 iers-2026-atelier-thea-doro
LOCATION:Atelier Thea Doro\, Falkenkorso 108\, 14612 Falkensee
X-APPLE-STRUCTURED-LOCATION;VALUE=URI;X-ADDRESS="Atelier Thea Doro, Falkenk
 orso 108, 14612 Falkensee";X-APPLE-RADIUS=49;X-TITLE=Atelier Thea Doro:geo
 :13.067776,52.570403
GEO:13.067776;52.570403
SUMMARY:Offene Ateliers 2026 -  Atelier Thea Doro
CLASS:PUBLIC
DESCRIPTION:Textilkunst \, Malerei\, Grafik\n\nSonntag 16 Uhr: Auftritt Ach
 im & friends. Konzert im Garten\, bei Regen in den Ausstellungsräumen.\n\
 nKontakt:\n\nLandkreis Havelland\nPlatz der Freiheit 1\n14712 Rathenow\nTe
 lefon: \nEmail: \n\nWeitere Informationen zur Veranstaltung: http://www.re
 iseland-brandenburg.de/veranstaltung/havelland/offene-ateliers-2026-atelie
 r-thea-doro
CATEGORIES:Ausstellung
DTSTAMP:20260421T192745Z
END:VEVENT
BEGIN:VEVENT
UID:69e7cfb1564a0
DTSTART:20260503T090000Z
SEQUENCE:0
TRANSP:OPAQUE
DTEND:20260503T160000Z
URL:http://www.reiseland-brandenburg.de/veranstaltung/havelland/offene-atel
 iers-2026-atelier-thea-doro
LOCATION:Atelier Thea Doro\, Falkenkorso 108\, 14612 Falkensee
X-APPLE-STRUCTURED-LOCATION;VALUE=URI;X-ADDRESS="Atelier Thea Doro, Falkenk
 orso 108, 14612 Falkensee";X-APPLE-RADIUS=49;X-TITLE=Atelier Thea Doro:geo
 :13.067776,52.570403
GEO:13.067776;52.570403
SUMMARY:Offene Ateliers 2026 -  Atelier Thea Doro
CLASS:PUBLIC
DESCRIPTION:Textilkunst \, Malerei\, Grafik\n\nSonntag 16 Uhr: Auftritt Ach
 im & friends. Konzert im Garten\, bei Regen in den Ausstellungsräumen.\n\
 nKontakt:\n\nLandkreis Havelland\nPlatz der Freiheit 1\n14712 Rathenow\nTe
 lefon: \nEmail: \n\nWeitere Informationen zur Veranstaltung: http://www.re
 iseland-brandenburg.de/veranstaltung/havelland/offene-ateliers-2026-atelie
 r-thea-doro
CATEGORIES:Ausstellung
DTSTAMP:20260421T192745Z
END:VEVENT
END:VCALENDAR