BEGIN:VCALENDAR
VERSION:2.0
PRODID:www.reiseland-brandenburg.de
BEGIN:VEVENT
UID:69e7cfba47dd8
DTSTART:20260502T120000Z
SEQUENCE:0
TRANSP:OPAQUE
DTEND:20260502T160000Z
URL:http://www.reiseland-brandenburg.de/veranstaltung/havelland/offene-atel
 iers-2026-atelier-dieter-stahl
LOCATION:Atelier Dieter Stahl\, Elbeallee  28\, 14612 Falkensee
X-APPLE-STRUCTURED-LOCATION;VALUE=URI;X-ADDRESS="Atelier Dieter Stahl, Elbe
 allee  28, 14612 Falkensee";X-APPLE-RADIUS=49;X-TITLE=Atelier Dieter Stahl
 :geo:13.075645,52.573945
GEO:13.075645;52.573945
SUMMARY:Offene Ateliers 2026 -  Atelier Dieter Stahl
CLASS:PUBLIC
DESCRIPTION:Kunsthandwerk\n\nKontakt:\n\nLandkreis Havelland\nPlatz der Fre
 iheit 1\n14712 Rathenow\nTelefon: \nEmail: \n\nWeitere Informationen zur V
 eranstaltung: http://www.reiseland-brandenburg.de/veranstaltung/havelland/
 offene-ateliers-2026-atelier-dieter-stahl
CATEGORIES:Ausstellung
DTSTAMP:20260421T192754Z
END:VEVENT
BEGIN:VEVENT
UID:69e7cfba74a31
DTSTART:20260503T090000Z
SEQUENCE:0
TRANSP:OPAQUE
DTEND:20260503T160000Z
URL:http://www.reiseland-brandenburg.de/veranstaltung/havelland/offene-atel
 iers-2026-atelier-dieter-stahl
LOCATION:Atelier Dieter Stahl\, Elbeallee  28\, 14612 Falkensee
X-APPLE-STRUCTURED-LOCATION;VALUE=URI;X-ADDRESS="Atelier Dieter Stahl, Elbe
 allee  28, 14612 Falkensee";X-APPLE-RADIUS=49;X-TITLE=Atelier Dieter Stahl
 :geo:13.075645,52.573945
GEO:13.075645;52.573945
SUMMARY:Offene Ateliers 2026 -  Atelier Dieter Stahl
CLASS:PUBLIC
DESCRIPTION:Kunsthandwerk\n\nKontakt:\n\nLandkreis Havelland\nPlatz der Fre
 iheit 1\n14712 Rathenow\nTelefon: \nEmail: \n\nWeitere Informationen zur V
 eranstaltung: http://www.reiseland-brandenburg.de/veranstaltung/havelland/
 offene-ateliers-2026-atelier-dieter-stahl
CATEGORIES:Ausstellung
DTSTAMP:20260421T192754Z
END:VEVENT
END:VCALENDAR