BEGIN:VCALENDAR
VERSION:2.0
PRODID:www.reiseland-brandenburg.de
BEGIN:VEVENT
UID:69e8b0c3dae47
DTSTART:20260627T173000Z
SEQUENCE:0
TRANSP:OPAQUE
DTEND:20260627T200000Z
URL:http://www.reiseland-brandenburg.de/veranstaltung/flaeming/poetry-slam-
 zwischen-zeilen-und-ziegeln
LOCATION:Kultur Beelitz-Heilstätten\, Straße nach Fichtenwalde  3\,  Beel
 itz
X-APPLE-STRUCTURED-LOCATION;VALUE=URI;X-ADDRESS="Kultur Beelitz-Heilstätte
 n, Straße nach Fichtenwalde  3,  Beelitz";X-APPLE-RADIUS=49;X-TITLE=Kultu
 r Beelitz-Heilstätten:geo:12.928278,52.259187
GEO:12.928278;52.259187
SUMMARY:Poetry Slam „Zwischen Zeilen und Ziegeln“
CLASS:PUBLIC
DESCRIPTION:Den Ort zum Sprechen bringen\n\nHistorische Orte erzählen Gesc
 hichten. Manche laut\, manche leise\, manche schon sehr lange nicht mehr. 
 Mit dem Projekt „Zwischen Zeilen und Ziegeln – Poetry Slam für das La
 nd von morgen“ werden diese Orte erneut zum Sprechen gebracht – mit Sp
 rache\, Rhythmus und Gedanken über die Zukunft.\n\nPoetry Slam ist ein le
 bendiges Literaturformat. Poet:innen tragen selbstgeschriebene Texte vor 
 – ehrlich\, humorvoll\, politisch oder poetisch. Es gibt ein Zeitlimit v
 on sechs Minuten\, keine Requisiten und keine Musik. Das Publikum entschei
 det per Applaus\, welche Texte besonders berühren. So entsteht ein direkt
 er Austausch zwischen Bühne und Zuhörenden.\n\nVeranstaltet wird das Pro
 jekt vom Verein Stift & Mikro\, gemeinsam mit dem SlamKollektiv Eberswalde
  und den Kiezpoeten aus Berlin.\n\n-\n\nEin Projekt im Rahmen von \"Von hi
 er aus Zukunft - Kulturland Brandenburg 2026/2027\"\n\nKontakt:\n\nStift &
  Mikro Verein für Kulturförderung e.V.\nTegeler Str. 27\n13353 Berlin\nT
 elefon: \nEmail: derjesko@derjesko.de\nWebseite: https://stiftmikro.wordpr
 ess.com/\n\nWeitere Informationen zur Veranstaltung: http://www.reiseland-
 brandenburg.de/veranstaltung/flaeming/poetry-slam-zwischen-zeilen-und-zieg
 eln
CATEGORIES:Lesung / Vortrag
DTSTAMP:20260422T112803Z
END:VEVENT
END:VCALENDAR