BEGIN:VCALENDAR
VERSION:2.0
PRODID:www.reiseland-brandenburg.de
BEGIN:VEVENT
UID:69e7cf57abb1c
DTSTART:20260510T080000Z
SEQUENCE:0
TRANSP:OPAQUE
DTEND:20260510T123000Z
URL:http://www.reiseland-brandenburg.de/veranstaltung/flaeming/muttertags-b
 runch-im-hotel-vierseithof
LOCATION:Hotel VIERSEITHOF in Luckenwalde\, Haag 20 / Am Herrenhaus 1\, 149
 43 Luckenwalde
X-APPLE-STRUCTURED-LOCATION;VALUE=URI;X-ADDRESS="Hotel VIERSEITHOF in Lucke
 nwalde, Haag 20 / Am Herrenhaus 1, 14943 Luckenwalde";X-APPLE-RADIUS=49;X-
 TITLE=Hotel VIERSEITHOF in Luckenwalde:geo:13.169617,52.088883
GEO:13.169617;52.088883
SUMMARY:Muttertags-Brunch im Hotel VIERSEITHOF
CLASS:PUBLIC
DESCRIPTION:Das saisonale\, abwechslungsreiche Buffet lädt zum genussvolle
 n Muttertags-Brunch im denkmalgeschützten Hotel VIERSEITHOF ein.\n\nIn be
 sonderer Atmosphäre bietet sich die Gelegenheit\, den Muttertags-Brunch g
 emeinsam mit der Familie und Freunden zu verbringen.\n\nDas Buffet umfasst
  eine ausgewogene Mischung von Frühstücksspezialitäten\, warmen Köstli
 chkeiten sowie leckeren Torten und Gebäck.\n\nKaffee\, Tee\, Wasser und S
 äfte sind inklusive.\n\nDie Plätze sind begrenzt. Eine Reservierung ist 
 erforderlich.\n\nKontakt:\n\nHotel VIERSEITHOF\nHaag 20 / Am Herrenhaus 1\
 n14943 Luckenwalde\nTelefon: +49 3371 6890654\nEmail: info@hotel-vierseith
 of-luckenwalde.de\nWebseite: https://hotel-vierseithof-luckenwalde.de\n\nW
 eitere Informationen zur Veranstaltung: http://www.reiseland-brandenburg.d
 e/veranstaltung/flaeming/muttertags-brunch-im-hotel-vierseithof
CATEGORIES:Essen und Trinken
DTSTAMP:20260421T192615Z
END:VEVENT
END:VCALENDAR