BEGIN:VCALENDAR
VERSION:2.0
PRODID:www.reiseland-brandenburg.de
BEGIN:VEVENT
UID:69e62786f0c70
DTSTART:20260912T173000Z
SEQUENCE:0
TRANSP:OPAQUE
DTEND:20260912T193000Z
URL:http://www.reiseland-brandenburg.de/veranstaltung/havelland/undine
LOCATION:Kulturscheune Ribbeck\, Am Birnbaum 15\, 14641 Nauen
X-APPLE-STRUCTURED-LOCATION;VALUE=URI;X-ADDRESS="Kulturscheune Ribbeck, Am 
 Birnbaum 15, 14641 Nauen";X-APPLE-RADIUS=49;X-TITLE=Kulturscheune Ribbeck:
 geo:12.754151,52.626194
GEO:12.754151;52.626194
SUMMARY:Undine
CLASS:PUBLIC
DESCRIPTION:nach Günter de Bruyn und Friedrich de la Motte-Fouqué\n\nZwei
  kleine Mädchen\, ein Menschenkind und eine Wassernixe\, werden vertausch
 t. Jahre später verliebt sich ein Ritter in ein Edelfräulein. Um ihr Her
 z zu erringen\, zieht er aus\, um den Wald vor Geistern zu befreien. An ei
 ner Landzunge gerät er durch Überschwemmungen in Not\, wird gerettet und
  landet für längere Zeit bei einer Fischerfamilie. Er ist fasziniert von
  deren Tochter Undine\, verliebt sich in sie und nimmt sie mit zurück in 
 die Stadt. Eine unheilvolle menage à trois nimmt ihren Lauf.\n\nDie Bearb
 eitung des berühmten Märchenstoffs basiert auf den Erzählungen von Gün
 ter de Bruyn (2021) und Friedrich de la Motte-Fouqué (1811). theater.land
  brachte 2024 die Uraufführung auf die Hofbühne der Burg Beeskow. Günte
 r de Bruyn schrieb ganz in der Nähe seine letzte Erzählung „Die neue U
 ndine“. In Ribbeck wird eine Variante der Inszenierung als szenische Les
 ung und atmosphärische Rauminstallation zu sehen sein. Unweit von Schloss
  Nennhausen\, wo einst Motte-Fouqué seine berühmte „Undine“ schrieb.
 \n\nKontakt:\n\ntheater.land\n\n \nTelefon: \nEmail: tickets@theater.land\
 nWebseite: https://www.theater.land\n\nWeitere Informationen zur Veranstal
 tung: http://www.reiseland-brandenburg.de/veranstaltung/havelland/undine
CATEGORIES:Theater / Tanz / Kabarett
DTSTAMP:20260420T131800Z
END:VEVENT
BEGIN:VEVENT
UID:69e6278725eed
DTSTART:20260913T140000Z
SEQUENCE:0
TRANSP:OPAQUE
DTEND:20260913T160000Z
URL:http://www.reiseland-brandenburg.de/veranstaltung/havelland/undine
LOCATION:Kulturscheune Ribbeck\, Am Birnbaum 15\, 14641 Nauen
X-APPLE-STRUCTURED-LOCATION;VALUE=URI;X-ADDRESS="Kulturscheune Ribbeck, Am 
 Birnbaum 15, 14641 Nauen";X-APPLE-RADIUS=49;X-TITLE=Kulturscheune Ribbeck:
 geo:12.754151,52.626194
GEO:12.754151;52.626194
SUMMARY:Undine
CLASS:PUBLIC
DESCRIPTION:nach Günter de Bruyn und Friedrich de la Motte-Fouqué\n\nZwei
  kleine Mädchen\, ein Menschenkind und eine Wassernixe\, werden vertausch
 t. Jahre später verliebt sich ein Ritter in ein Edelfräulein. Um ihr Her
 z zu erringen\, zieht er aus\, um den Wald vor Geistern zu befreien. An ei
 ner Landzunge gerät er durch Überschwemmungen in Not\, wird gerettet und
  landet für längere Zeit bei einer Fischerfamilie. Er ist fasziniert von
  deren Tochter Undine\, verliebt sich in sie und nimmt sie mit zurück in 
 die Stadt. Eine unheilvolle menage à trois nimmt ihren Lauf.\n\nDie Bearb
 eitung des berühmten Märchenstoffs basiert auf den Erzählungen von Gün
 ter de Bruyn (2021) und Friedrich de la Motte-Fouqué (1811). theater.land
  brachte 2024 die Uraufführung auf die Hofbühne der Burg Beeskow. Günte
 r de Bruyn schrieb ganz in der Nähe seine letzte Erzählung „Die neue U
 ndine“. In Ribbeck wird eine Variante der Inszenierung als szenische Les
 ung und atmosphärische Rauminstallation zu sehen sein. Unweit von Schloss
  Nennhausen\, wo einst Motte-Fouqué seine berühmte „Undine“ schrieb.
 \n\nKontakt:\n\ntheater.land\n\n \nTelefon: \nEmail: tickets@theater.land\
 nWebseite: https://www.theater.land\n\nWeitere Informationen zur Veranstal
 tung: http://www.reiseland-brandenburg.de/veranstaltung/havelland/undine
CATEGORIES:Theater / Tanz / Kabarett
DTSTAMP:20260420T131800Z
END:VEVENT
END:VCALENDAR