BEGIN:VCALENDAR
VERSION:2.0
PRODID:www.reiseland-brandenburg.de
BEGIN:VEVENT
UID:69eb629ebff21
DTSTART:20260509T173000Z
SEQUENCE:0
TRANSP:OPAQUE
DTEND:20260509T190000Z
URL:http://www.reiseland-brandenburg.de/veranstaltung/uckermark/das-schiff-
 esperanza
LOCATION:Hof Quillo\, Quillowstraße 47\, 17291 Nordwestuckermark
X-APPLE-STRUCTURED-LOCATION;VALUE=URI;X-ADDRESS="Hof Quillo, Quillowstraße
  47, 17291 Nordwestuckermark";X-APPLE-RADIUS=49;X-TITLE=Hof Quillo:geo:13.
 798916,53.361330
GEO:13.798916;53.361330
SUMMARY:Das Schiff Esperanza
CLASS:PUBLIC
DESCRIPTION:Der junge Matrose Axel Grove heuert auf der _Esperanza_ an. Unv
 erhofft trifft er hier nach dreizehn Jahren auf seinen Vater\, den Kapitä
 n des rostigen Frachtschiffs. Nach den Kriegsjahren ist der einst vorbildh
 afte Marinekapitän zum zynischen Alkoholiker geworden. Im Frachtraum entd
 eckt der Sohn versteckte Auswanderer\, die voller Hoffnung viel Geld für 
 eine Überfahrt in die USA gezahlt haben. Doch die _Esperanza_ -Crew betre
 ibt ein skrupelloses Schleppergeschäft: statt an Land werden die ahnungsl
 osen Menschen jedes Mal auf einer Sandbank und somit der tödlichen Flut a
 usgesetzt. Axel Grove weiß von dieser Unmenschlichkeit nichts. Er will nu
 r schnell wieder von Bord\, weg von seinem unmoralischen Vater - und tausc
 ht kurz vor der vermeintlichen Ankunft heimlich mit einem der Auswanderer\
 , der aus Angst auf der _Esperanza_ zurückbleibt.\n\nAls Reflexion der Ge
 schehnisse des Zweiten Weltkriegs geschrieben\, bleibt _Das Schiff Esperan
 za_ (1953) in seiner Wirkung auch heute zeitlos. Unmenschlichkeit\, Kriegs
 traumata\, Migration und individuelle Hoffnungen bilden ein Szenario\, das
   auch in der gegenwärtigen Welt sichtbar ist.\n\nFred von Hoerschelmanns
  erfolgreiches Hörspiel wurde von uns als Schauspiel mit fünf Spieler:in
 nen für zwei sehr unterschiedliche Spielorte in Brandenburg realisiert.\n
 \nKontakt:\n\ntheater.land\n\n \nTelefon: \nEmail: reservierung@quillo.net
 \nWebseite: https://www.theater.land\n\nWeitere Informationen zur Veransta
 ltung: http://www.reiseland-brandenburg.de/veranstaltung/uckermark/das-sch
 iff-esperanza
CATEGORIES:Theater / Tanz / Kabarett
DTSTAMP:20260424T123126Z
END:VEVENT
END:VCALENDAR