BEGIN:VCALENDAR
VERSION:2.0
PRODID:www.reiseland-brandenburg.de
BEGIN:VEVENT
UID:69e667e08d615
DTSTART:20261129T090000Z
SEQUENCE:0
TRANSP:OPAQUE
DTEND:20261129T170000Z
URL:http://www.reiseland-brandenburg.de/veranstaltung/ruppiner-seenland/tag
 -der-offenen-weihnachtstuer-1-advent
LOCATION:Hedwig Bollhagen Werkstätten für Keramik\, OT Marwitz Hedwig-Bol
 lhagen-Straße 4\, 16727 Oberkrämer
X-APPLE-STRUCTURED-LOCATION;VALUE=URI;X-ADDRESS="Hedwig Bollhagen Werkstät
 ten für Keramik, OT Marwitz Hedwig-Bollhagen-Straße 4, 16727 Oberkrämer
 ";X-APPLE-RADIUS=49;X-TITLE=Hedwig Bollhagen Werkstätten für Keramik:geo
 :13.158762,52.671153
GEO:13.158762;52.671153
SUMMARY:Tag der offenen Weihnachtstür 1. Advent
CLASS:PUBLIC
DESCRIPTION:Wir laden herzlich zum Tag der offenen Weihnachtstür am 1. Adv
 ent  Sonntag 29. November 2026 ein.  \nWir öffnen unseren Werksverkauf vo
 n 10:00 - 18:00 Uhr  \nIn dieser Zeit ist es auch möglich selber Keramik 
 zu bemalen und an Werksführungen teilzunehmen.  \nUhrzeiten für Werksfü
 hrungen (10:15\, 12:00\, 13:45)\, um Onlineanmeldung wird gebeten  \nWerde
 t \"Kerammaler\" und nutzt die Möglichkeit eine unserer empfohlenen Forme
 n für nur 39 EUR selbst zu gestalten. Bei einer Werksführung könnt ihr 
 euch zeigen lassen\, wie in den HB-Werkstätten die Keramiken in aufwändi
 ger Handarbeit hergestellt werden.  \nWerksführungen (Gruppe max. 10 Pers
 onen):  \n\\- 15\,00 EUR pro Erwachsenen*  \n\\- 8\,00 EUR pro Schüler/St
 udenten/Rentner*  \n\\- Freier Eintritt für Kinder und Jugendliche bis 14
  Jahre  \n*Ihre Eintrittskarte gilt als Gutschein für den Einkauf im Werk
 sverkauf. Pro gekaufter Keramik ist nur ein Gutschein einlösbar.  \nWir e
 mpfehlen auf unserer Website verbindlich Plätze für das Kerammalen oder 
 die Werksführungen zu buchen:  \n[**https://www.hedwig-bollhagen.de/pages
 /werksfuehrungen**](https://l.facebook.com/l.php?u=https%3A%2F%2Fwww.hedwi
 g-bollhagen.de%2Fpages%2Fwerksfuehrungen%3Ffbclid%3DIwZXh0bgNhZW0CMTAAYnJp
 ZBEwUldFc28xMURiNXdsb2xHbXNydGMGYXBwX2lkEDIyMjAzOTE3ODgyMDA4OTIAAR7VY73GQ9
 y2tASYRLhOelW_gRjizOoxdiWJsoMbKnGiOjnC-gcJpkE_72KXGw_aem_MDkQc5ufQdn9Kaorr
 XY0sw&h=AT44Jehu6yPCE8eazq7HWRPC7eWgi3S2fapfM2KLTCAjSZiHHIA9hxSN6LSi37JXdn
 ddgSCtIb23ofU_Y9LR570vakK6RrYttPBh-04rXKUmMjx9lstf73muWKq58LyGnid-085mQ8cp
 WXyTJ3pJyRBQtPgOMjPtHjueow&__tn__=q&c\\[0\\]=AT6D4vn_b5ZEPfHYlMKpdVm7unkQG
 ovkDY7zUuTz9-SEkltU3K_Wq4JlPxlBf-YH-rxMGlMD03MP_dRpXcYGxZ25A-fm6JsJpEWKzep
 n5TgNPONwnTeDOcaGzxkMQzbsSjzxmRQG6jTOzn1ZpYSHmuhDDhLsgdF2XcY)  \nFür alle
  die\, die Hedwig Bollhagen-Werkstätten noch nicht kennen: Sie ist die ei
 nzige direkt aus dem Bauhaus hervorgegangene Manufaktur\, die feinste Desi
 gn-Keramik mit Originalformen herstellt und neu interpretiert. In den 1934
  in Marwitz am Rande Berlins gegründeten Werkstätten entstehen limitiert
 e Kleinstserien von höchster Qualität. HB-Keramik ist bekannt für die V
 ollendung des Einfachen\, die eine vielfältige Kombinierbarkeit der Dekor
 e\, Formen und des Designs ermöglicht.  \nUnsere Mitarbeiter freuen sich\
 , Euch während der Führung\, die einzigartige Geschichte und aufwändige
  Herstellung näher zu bringen.\n\nKontakt:\n\nHedwig Bollhagen Werkstätt
 en für Keramik GmBH\nHedwig-Bollhagen-Straße 4\n16727 Oberkrämer/Marwit
 z\nTelefon: +49 3304 39800\nEmail: verkauf@hedwig-bollhagen.de\n\nWeitere 
 Informationen zur Veranstaltung: http://www.reiseland-brandenburg.de/veran
 staltung/ruppiner-seenland/tag-der-offenen-weihnachtstuer-1-advent
CATEGORIES:Kinder und Jugendliche,Workshop / Seminar,Führung / Besichtigun
 g
DTSTAMP:20260420T175232Z
END:VEVENT
END:VCALENDAR