BEGIN:VCALENDAR
VERSION:2.0
PRODID:www.reiseland-brandenburg.de
BEGIN:VEVENT
UID:69e667e0155dd
DTSTART:20261003T080000Z
SEQUENCE:0
TRANSP:OPAQUE
DTEND:20261003T160000Z
URL:http://www.reiseland-brandenburg.de/veranstaltung/ruppiner-seenland/wer
 ksverkauf-am-tag-der-deutschen-einheit
LOCATION:Hedwig Bollhagen Werkstätten für Keramik\, OT Marwitz Hedwig-Bol
 lhagen-Straße 4\, 16727 Oberkrämer
X-APPLE-STRUCTURED-LOCATION;VALUE=URI;X-ADDRESS="Hedwig Bollhagen Werkstät
 ten für Keramik, OT Marwitz Hedwig-Bollhagen-Straße 4, 16727 Oberkrämer
 ";X-APPLE-RADIUS=49;X-TITLE=Hedwig Bollhagen Werkstätten für Keramik:geo
 :13.158762,52.671153
GEO:13.158762;52.671153
SUMMARY:Werksverkauf am Tag der deutschen Einheit
CLASS:PUBLIC
DESCRIPTION:Wir laden herzlich zum Tag der deutschen Einheit am Samstag dem
  03. Oktober 2026 ein.  \nWir öffnen unseren Werksverkauf von 10:00 - 18:
 00 Uhr  \nIn dieser Zeit ist es auch möglich selber Keramik zu bemalen un
 d an Werksführungen teilzunehmen.  \nUhrzeiten für Werksführungen (10:1
 5\, 12:00\, 13:45)\, um Onlineanmeldung wird gebeten  \nWerdet \"Kerammale
 r\" und nutzt die Möglichkeit eine unserer empfohlenen Formen für nur 39
  EUR selbst zu gestalten. Bei einer Werksführung könnt ihr euch zeigen l
 assen\, wie in den HB-Werkstätten die Keramiken in aufwändiger Handarbei
 t hergestellt werden.  \nWerksführungen (Gruppe max. 10 Personen):  \n\\-
  15\,00 EUR pro Erwachsenen*  \n\\- 8\,00 EUR pro Schüler/Studenten/Rentn
 er*  \n\\- Freier Eintritt für Kinder und Jugendliche bis 14 Jahre  \n*Ih
 re Eintrittskarte gilt als Gutschein für den Einkauf im Werksverkauf. Pro
  gekaufter Keramik ist nur ein Gutschein einlösbar.  \nWir empfehlen auf 
 unserer Website verbindlich Plätze für das Kerammalen oder die Werksfüh
 rungen zu buchen:  \n[**https://www.hedwig-bollhagen.de/pages/werksfuehrun
 gen**](https://l.facebook.com/l.php?u=https%3A%2F%2Fwww.hedwig-bollhagen.d
 e%2Fpages%2Fwerksfuehrungen%3Ffbclid%3DIwZXh0bgNhZW0CMTAAYnJpZBEwUldFc28xM
 URiNXdsb2xHbXNydGMGYXBwX2lkEDIyMjAzOTE3ODgyMDA4OTIAAR7VY73GQ9y2tASYRLhOelW
 _gRjizOoxdiWJsoMbKnGiOjnC-gcJpkE_72KXGw_aem_MDkQc5ufQdn9KaorrXY0sw&h=AT44J
 ehu6yPCE8eazq7HWRPC7eWgi3S2fapfM2KLTCAjSZiHHIA9hxSN6LSi37JXdnddgSCtIb23ofU
 _Y9LR570vakK6RrYttPBh-04rXKUmMjx9lstf73muWKq58LyGnid-085mQ8cpWXyTJ3pJyRBQt
 PgOMjPtHjueow&__tn__=q&c\\[0\\]=AT6D4vn_b5ZEPfHYlMKpdVm7unkQGovkDY7zUuTz9-
 SEkltU3K_Wq4JlPxlBf-YH-rxMGlMD03MP_dRpXcYGxZ25A-fm6JsJpEWKzepn5TgNPONwnTeD
 OcaGzxkMQzbsSjzxmRQG6jTOzn1ZpYSHmuhDDhLsgdF2XcY)  \nFür alle die\, die He
 dwig Bollhagen-Werkstätten noch nicht kennen: Sie ist die einzige direkt 
 aus dem Bauhaus hervorgegangene Manufaktur\, die feinste Design-Keramik mi
 t Originalformen herstellt und neu interpretiert. In den 1934 in Marwitz a
 m Rande Berlins gegründeten Werkstätten entstehen limitierte Kleinstseri
 en von höchster Qualität. HB-Keramik ist bekannt für die Vollendung des
  Einfachen\, die eine vielfältige Kombinierbarkeit der Dekore\, Formen un
 d des Designs ermöglicht.  \nUnsere Mitarbeiter freuen sich\, Euch währe
 nd der Führung\, die einzigartige Geschichte und aufwändige Herstellung 
 näher zu bringen.\n\nKontakt:\n\nHedwig Bollhagen Werkstätten für Keram
 ik GmBH\nHedwig-Bollhagen-Straße 4\n16727 Oberkrämer/Marwitz\nTelefon: +
 49 3304 39800\nEmail: verkauf@hedwig-bollhagen.de\n\nWeitere Informationen
  zur Veranstaltung: http://www.reiseland-brandenburg.de/veranstaltung/rupp
 iner-seenland/werksverkauf-am-tag-der-deutschen-einheit
CATEGORIES:Kinder und Jugendliche,Workshop / Seminar,Führung / Besichtigun
 g
DTSTAMP:20260420T175232Z
END:VEVENT
END:VCALENDAR