BEGIN:VCALENDAR
VERSION:2.0
PRODID:www.reiseland-brandenburg.de
BEGIN:VEVENT
UID:69e6686a635f9
DTSTART:20260816T080000Z
SEQUENCE:0
TRANSP:OPAQUE
DTEND:20260816T160000Z
URL:http://www.reiseland-brandenburg.de/veranstaltung/ruppiner-seenland/tag
 -der-offenen-werkstaetten-3
LOCATION:Hedwig Bollhagen Werkstätten für Keramik\, OT Marwitz Hedwig-Bol
 lhagen-Straße 4\, 16727 Oberkrämer
X-APPLE-STRUCTURED-LOCATION;VALUE=URI;X-ADDRESS="Hedwig Bollhagen Werkstät
 ten für Keramik, OT Marwitz Hedwig-Bollhagen-Straße 4, 16727 Oberkrämer
 ";X-APPLE-RADIUS=49;X-TITLE=Hedwig Bollhagen Werkstätten für Keramik:geo
 :13.158762,52.671153
GEO:13.158762;52.671153
SUMMARY:Tag der offenen Werkstätten
CLASS:PUBLIC
DESCRIPTION:Wir laden herzlich zum Tag der offenen Werkstätten am Sonntag 
 16. August 2026 ein.  \nWir öffnen unseren Werksverkauf von 10:00 - 18:00
  Uhr  \nIn dieser Zeit ist es auch möglich selber Keramik zu bemalen und 
 an Werksführungen teilzunehmen.  \nUhrzeiten für Werksführungen (10:15\
 , 12:00\, 13:45)\, um Onlineanmeldung wird gebeten  \nWerdet \"Kerammaler\
 " und nutzt die Möglichkeit eine unserer empfohlenen Formen für nur 39 E
 UR selbst zu gestalten. Bei einer Werksführung könnt ihr euch zeigen las
 sen\, wie in den HB-Werkstätten die Keramiken in aufwändiger Handarbeit 
 hergestellt werden.  \nWerksführungen (Gruppe max. 10 Personen):  \n\\- 1
 5\,00 EUR pro Erwachsenen*  \n\\- 8\,00 EUR pro Schüler/Studenten/Rentner
 *  \n\\- Freier Eintritt für Kinder und Jugendliche bis 14 Jahre  \n*Ihre
  Eintrittskarte gilt als Gutschein für den Einkauf im Werksverkauf. Pro g
 ekaufter Keramik ist nur ein Gutschein einlösbar.  \nWir empfehlen auf un
 serer Website verbindlich Plätze für das Kerammalen oder die Werksführu
 ngen zu buchen:  \n[**https://www.hedwig-bollhagen.de/pages/werksfuehrunge
 n**](https://l.facebook.com/l.php?u=https%3A%2F%2Fwww.hedwig-bollhagen.de%
 2Fpages%2Fwerksfuehrungen%3Ffbclid%3DIwZXh0bgNhZW0CMTAAYnJpZBEwUldFc28xMUR
 iNXdsb2xHbXNydGMGYXBwX2lkEDIyMjAzOTE3ODgyMDA4OTIAAR7VY73GQ9y2tASYRLhOelW_g
 RjizOoxdiWJsoMbKnGiOjnC-gcJpkE_72KXGw_aem_MDkQc5ufQdn9KaorrXY0sw&h=AT44Jeh
 u6yPCE8eazq7HWRPC7eWgi3S2fapfM2KLTCAjSZiHHIA9hxSN6LSi37JXdnddgSCtIb23ofU_Y
 9LR570vakK6RrYttPBh-04rXKUmMjx9lstf73muWKq58LyGnid-085mQ8cpWXyTJ3pJyRBQtPg
 OMjPtHjueow&__tn__=q&c\\[0\\]=AT6D4vn_b5ZEPfHYlMKpdVm7unkQGovkDY7zUuTz9-SE
 kltU3K_Wq4JlPxlBf-YH-rxMGlMD03MP_dRpXcYGxZ25A-fm6JsJpEWKzepn5TgNPONwnTeDOc
 aGzxkMQzbsSjzxmRQG6jTOzn1ZpYSHmuhDDhLsgdF2XcY)  \nFür alle die\, die Hedw
 ig Bollhagen-Werkstätten noch nicht kennen: Sie ist die einzige direkt au
 s dem Bauhaus hervorgegangene Manufaktur\, die feinste Design-Keramik mit 
 Originalformen herstellt und neu interpretiert. In den 1934 in Marwitz am 
 Rande Berlins gegründeten Werkstätten entstehen limitierte Kleinstserien
  von höchster Qualität. HB-Keramik ist bekannt für die Vollendung des E
 infachen\, die eine vielfältige Kombinierbarkeit der Dekore\, Formen und 
 des Designs ermöglicht.  \nUnsere Mitarbeiter freuen sich\, Euch während
  der Führung\, die einzigartige Geschichte und aufwändige Herstellung n
 äher zu bringen.\n\nKontakt:\n\nHedwig Bollhagen Werkstätten für Kerami
 k GmBH\nHedwig-Bollhagen-Straße 4\n16727 Oberkrämer/Marwitz\nTelefon: +4
 9 3304 39800\nEmail: verkauf@hedwig-bollhagen.de\n\nWeitere Informationen 
 zur Veranstaltung: http://www.reiseland-brandenburg.de/veranstaltung/ruppi
 ner-seenland/tag-der-offenen-werkstaetten-3
CATEGORIES:Kinder und Jugendliche,Workshop / Seminar,Führung / Besichtigun
 g
DTSTAMP:20260420T175452Z
END:VEVENT
END:VCALENDAR