BEGIN:VCALENDAR
VERSION:2.0
PRODID:www.reiseland-brandenburg.de
BEGIN:VEVENT
UID:69e69d9e89707
DTSTART:20260705T080000Z
SEQUENCE:0
TRANSP:OPAQUE
DTEND:20260705T160000Z
URL:http://www.reiseland-brandenburg.de/veranstaltung/ruppiner-seenland/tag
 -der-offenen-werkstaetten-2
LOCATION:Hedwig Bollhagen Werkstätten für Keramik\, OT Marwitz Hedwig-Bol
 lhagen-Straße 4\, 16727 Oberkrämer
X-APPLE-STRUCTURED-LOCATION;VALUE=URI;X-ADDRESS="Hedwig Bollhagen Werkstät
 ten für Keramik, OT Marwitz Hedwig-Bollhagen-Straße 4, 16727 Oberkrämer
 ";X-APPLE-RADIUS=49;X-TITLE=Hedwig Bollhagen Werkstätten für Keramik:geo
 :13.158762,52.671153
GEO:13.158762;52.671153
SUMMARY:Tag der offenen Werkstätten
CLASS:PUBLIC
DESCRIPTION:Wir laden herzlich zum Tag der offenen Werkstätten am Sonntag 
 05. Juli 2026 ein.  \nWir öffnen unseren Werksverkauf von 10:00 - 18:00 U
 hr  \nIn dieser Zeit ist es auch möglich selber Keramik zu bemalen und an
  Werksführungen teilzunehmen.  \nUhrzeiten für Werksführungen (10:15\, 
 12:00\, 13:45)\, um Onlineanmeldung wird gebeten  \nWerdet \"Kerammaler\" 
 und nutzt die Möglichkeit eine unserer empfohlenen Formen für nur 39 EUR
  selbst zu gestalten. Bei einer Werksführung könnt ihr euch zeigen lasse
 n\, wie in den HB-Werkstätten die Keramiken in aufwändiger Handarbeit he
 rgestellt werden.  \nWerksführungen (Gruppe max. 10 Personen):  \n\\- 15\
 ,00 EUR pro Erwachsenen*  \n\\- 8\,00 EUR pro Schüler/Studenten/Rentner* 
  \n\\- Freier Eintritt für Kinder und Jugendliche bis 14 Jahre  \n*Ihre E
 intrittskarte gilt als Gutschein für den Einkauf im Werksverkauf. Pro gek
 aufter Keramik ist nur ein Gutschein einlösbar.  \nWir empfehlen auf unse
 rer Website verbindlich Plätze für das Kerammalen oder die Werksführung
 en zu buchen:  \n[**https://www.hedwig-bollhagen.de/pages/werksfuehrungen*
 *](https://l.facebook.com/l.php?u=https%3A%2F%2Fwww.hedwig-bollhagen.de%2F
 pages%2Fwerksfuehrungen%3Ffbclid%3DIwZXh0bgNhZW0CMTAAYnJpZBEwUldFc28xMURiN
 Xdsb2xHbXNydGMGYXBwX2lkEDIyMjAzOTE3ODgyMDA4OTIAAR7VY73GQ9y2tASYRLhOelW_gRj
 izOoxdiWJsoMbKnGiOjnC-gcJpkE_72KXGw_aem_MDkQc5ufQdn9KaorrXY0sw&h=AT44Jehu6
 yPCE8eazq7HWRPC7eWgi3S2fapfM2KLTCAjSZiHHIA9hxSN6LSi37JXdnddgSCtIb23ofU_Y9L
 R570vakK6RrYttPBh-04rXKUmMjx9lstf73muWKq58LyGnid-085mQ8cpWXyTJ3pJyRBQtPgOM
 jPtHjueow&__tn__=q&c\\[0\\]=AT6D4vn_b5ZEPfHYlMKpdVm7unkQGovkDY7zUuTz9-SEkl
 tU3K_Wq4JlPxlBf-YH-rxMGlMD03MP_dRpXcYGxZ25A-fm6JsJpEWKzepn5TgNPONwnTeDOcaG
 zxkMQzbsSjzxmRQG6jTOzn1ZpYSHmuhDDhLsgdF2XcY)  \nFür alle die\, die Hedwig
  Bollhagen-Werkstätten noch nicht kennen: Sie ist die einzige direkt aus 
 dem Bauhaus hervorgegangene Manufaktur\, die feinste Design-Keramik mit Or
 iginalformen herstellt und neu interpretiert. In den 1934 in Marwitz am Ra
 nde Berlins gegründeten Werkstätten entstehen limitierte Kleinstserien v
 on höchster Qualität. HB-Keramik ist bekannt für die Vollendung des Ein
 fachen\, die eine vielfältige Kombinierbarkeit der Dekore\, Formen und de
 s Designs ermöglicht.  \nUnsere Mitarbeiter freuen sich\, Euch während d
 er Führung\, die einzigartige Geschichte und aufwändige Herstellung näh
 er zu bringen.\n\nKontakt:\n\nHedwig Bollhagen Werkstätten für Keramik G
 mBH\nHedwig-Bollhagen-Straße 4\n16727 Oberkrämer/Marwitz\nTelefon: +49 3
 304 39800\nEmail: verkauf@hedwig-bollhagen.de\n\nWeitere Informationen zur
  Veranstaltung: http://www.reiseland-brandenburg.de/veranstaltung/ruppiner
 -seenland/tag-der-offenen-werkstaetten-2
CATEGORIES:Kinder und Jugendliche,Workshop / Seminar,Führung / Besichtigun
 g
DTSTAMP:20260420T214150Z
END:VEVENT
END:VCALENDAR