BEGIN:VCALENDAR
VERSION:2.0
PRODID:www.reiseland-brandenburg.de
BEGIN:VEVENT
UID:69e64ef9aea93
DTSTART:20260501T080000Z
SEQUENCE:0
TRANSP:OPAQUE
DTEND:20260501T160000Z
URL:http://www.reiseland-brandenburg.de/veranstaltung/ruppiner-seenland/92-
 punkt-manufaktur-geburtstag-hb-werkstaetten
LOCATION:Hedwig Bollhagen Werkstätten für Keramik\, OT Marwitz Hedwig-Bol
 lhagen-Straße 4\, 16727 Oberkrämer
X-APPLE-STRUCTURED-LOCATION;VALUE=URI;X-ADDRESS="Hedwig Bollhagen Werkstät
 ten für Keramik, OT Marwitz Hedwig-Bollhagen-Straße 4, 16727 Oberkrämer
 ";X-APPLE-RADIUS=49;X-TITLE=Hedwig Bollhagen Werkstätten für Keramik:geo
 :13.158762,52.671153
GEO:13.158762;52.671153
SUMMARY:92.Manufaktur-Geburtstag HB Werkstätten
CLASS:PUBLIC
DESCRIPTION:Wir laden herzlich zum 92.Manufaktur-Geburtstag am 01.Mai 2026 
 ein.  \nWir öffnen unseren Werksverkauf von 10:00 - 18:00 Uhr  \nIn diese
 r Zeit ist es auch möglich selber Keramik zu bemalen und an Werksführung
 en teilzunehmen.  \nUhrzeiten für Werksführungen (10:15\, 12:00\, 13:45)
 \, um Onlineanmeldung wird gebeten  \nWerdet \"Kerammaler\" und nutzt die 
 Möglichkeit eine unserer empfohlenen Formen für nur 39 EUR selbst zu ges
 talten. Bei einer Werksführung könnt ihr euch zeigen lassen\, wie in den
  HB-Werkstätten die Keramiken in aufwändiger Handarbeit hergestellt werd
 en.  \nWerksführungen (Gruppe max. 10 Personen):  \n\\- 15\,00 EUR pro Er
 wachsenen*  \n\\- 8\,00 EUR pro Schüler/Studenten/Rentner*  \n\\- Freier 
 Eintritt für Kinder und Jugendliche bis 14 Jahre  \n*Ihre Eintrittskarte 
 gilt als Gutschein für den Einkauf im Werksverkauf. Pro gekaufter Keramik
  ist nur ein Gutschein einlösbar.  \nWir empfehlen auf unserer Website ve
 rbindlich Plätze für das Kerammalen oder die Werksführungen zu buchen: 
  \n[**https://www.hedwig-bollhagen.de/pages/werksfuehrungen**](https://l.f
 acebook.com/l.php?u=https%3A%2F%2Fwww.hedwig-bollhagen.de%2Fpages%2Fwerksf
 uehrungen%3Ffbclid%3DIwZXh0bgNhZW0CMTAAYnJpZBEwUldFc28xMURiNXdsb2xHbXNydGM
 GYXBwX2lkEDIyMjAzOTE3ODgyMDA4OTIAAR7VY73GQ9y2tASYRLhOelW_gRjizOoxdiWJsoMbK
 nGiOjnC-gcJpkE_72KXGw_aem_MDkQc5ufQdn9KaorrXY0sw&h=AT44Jehu6yPCE8eazq7HWRP
 C7eWgi3S2fapfM2KLTCAjSZiHHIA9hxSN6LSi37JXdnddgSCtIb23ofU_Y9LR570vakK6RrYtt
 PBh-04rXKUmMjx9lstf73muWKq58LyGnid-085mQ8cpWXyTJ3pJyRBQtPgOMjPtHjueow&__tn
 __=q&c\\[0\\]=AT6D4vn_b5ZEPfHYlMKpdVm7unkQGovkDY7zUuTz9-SEkltU3K_Wq4JlPxlB
 f-YH-rxMGlMD03MP_dRpXcYGxZ25A-fm6JsJpEWKzepn5TgNPONwnTeDOcaGzxkMQzbsSjzxmR
 QG6jTOzn1ZpYSHmuhDDhLsgdF2XcY)  \nFür alle die\, die Hedwig Bollhagen-Wer
 kstätten noch nicht kennen: Sie ist die einzige direkt aus dem Bauhaus he
 rvorgegangene Manufaktur\, die feinste Design-Keramik mit Originalformen h
 erstellt und neu interpretiert. In den 1934 in Marwitz am Rande Berlins ge
 gründeten Werkstätten entstehen limitierte Kleinstserien von höchster Q
 ualität. HB-Keramik ist bekannt für die Vollendung des Einfachen\, die e
 ine vielfältige Kombinierbarkeit der Dekore\, Formen und des Designs erm
 öglicht.  \nUnsere Mitarbeiter freuen sich\, Euch während der Führung\,
  die einzigartige Geschichte und aufwändige Herstellung näher zu bringen
 .\n\nKontakt:\n\nHedwig Bollhagen Werkstätten für Keramik GmBH\nHedwig-B
 ollhagen-Straße 4\n16727 Oberkrämer/Marwitz\nTelefon: +49 3304 39800\nEm
 ail: verkauf@hedwig-bollhagen.de\n\nWeitere Informationen zur Veranstaltun
 g: http://www.reiseland-brandenburg.de/veranstaltung/ruppiner-seenland/92-
 punkt-manufaktur-geburtstag-hb-werkstaetten
CATEGORIES:Kinder und Jugendliche,Workshop / Seminar,Führung / Besichtigun
 g
DTSTAMP:20260420T160617Z
END:VEVENT
END:VCALENDAR