BEGIN:VCALENDAR
VERSION:2.0
PRODID:www.reiseland-brandenburg.de
BEGIN:VEVENT
UID:69ed719fb98d6
DTSTART:20260529T170000Z
SEQUENCE:0
TRANSP:OPAQUE
DTEND:20260529T230000Z
URL:http://www.reiseland-brandenburg.de/veranstaltung/seenland-oder-spree/w
 endisch-rietz-tanzt-auf-der-festwiese
LOCATION:Festwiese\, Seestraße 9a\, 15864 Wendisch Rietz
X-APPLE-STRUCTURED-LOCATION;VALUE=URI;X-ADDRESS="Festwiese, Seestraße 9a, 
 15864 Wendisch Rietz";X-APPLE-RADIUS=49;X-TITLE=Festwiese:geo:14.007269,52
 .210967
GEO:14.007269;52.210967
SUMMARY:Wendisch Rietz tanzt auf der Festwiese
CLASS:PUBLIC
DESCRIPTION:Wendisch Rietz tanzt auf der Festwiese! \n\nErlebt einen unverg
 esslichen Abend voller Stimmung\, Musik und guter Laune in einzigartiger A
 tmosphäre. Für die perfekte Unterhaltung sorgen Daniel Hilpert und Enric
 o Ostendorf mit mitreißender Live-Musik\, die garantiert zum Tanzen einl
 ädt.\n\nEin ganz besonderes Highlight erwartet euch um 22:45 Uhr: Ein Feu
 erwerk taucht den Himmel in ein spektakuläres Farbenmeer und sorgt für e
 inen unvergesslichen Abschluss des Abends. \n\nKommt vorbei und feiert mit
  uns!\n\nKontakt:\n\nHaus des Gastes\nKleine Promenade  1\n15684 Wendisch 
 Rietz\nTelefon: +49 33679 648420\nEmail: tourismus@scharmuetzelsee.de\n\nW
 eitere Informationen zur Veranstaltung: http://www.reiseland-brandenburg.d
 e/veranstaltung/seenland-oder-spree/wendisch-rietz-tanzt-auf-der-festwiese
CATEGORIES:Fest / Brauchtum
DTSTAMP:20260426T015959Z
END:VEVENT
END:VCALENDAR