BEGIN:VCALENDAR
VERSION:2.0
PRODID:www.reiseland-brandenburg.de
BEGIN:VEVENT
UID:69ea1cb34598d
DTSTART:20260627T221000Z
SEQUENCE:0
TRANSP:OPAQUE
DTEND:20260628T081000Z
URL:http://www.reiseland-brandenburg.de/veranstaltung/seenland-oder-spree/d
 orffest-in-coethen-auf-dem-gelaende-der-eheml-brennerei-coethen
LOCATION:Das-Gut.org - ehemalige Brennerei Cöthen - KunsTechniKiosk\, Cöt
 hen 66\, 16259 Falkenberg Mark
X-APPLE-STRUCTURED-LOCATION;VALUE=URI;X-ADDRESS="Das-Gut.org - ehemalige Br
 ennerei Cöthen - KunsTechniKiosk, Cöthen 66, 16259 Falkenberg Mark";X-AP
 PLE-RADIUS=49;X-TITLE=Das-Gut.org - ehemalige Brennerei Cöthen - KunsTech
 niKiosk:geo:13.956792,52.805047
GEO:13.956792;52.805047
SUMMARY:Dorffest in Cöthen auf dem Gelände der eheml. Brennerei Cöthen
CLASS:PUBLIC
DESCRIPTION:**Dorffest in Cöthen!**\n\n**mit Live-Konzert\, Musik\, Geträ
 nken\, Speisen**\n\n**verschiedene Vereine und Gruppen stellen sich vor.**
 \n\n**Für Alt und Jung\, allein oder gemeinsam: Sie sind herzllich eingel
 aden!**\n\nKontakt:\n\nDAS-GUT.org - ehemalige Brennerei Cöthen - KunsTec
 hniKiosk\nCöthen 66\n16259 Falkenberg\nTelefon: \nEmail: box@das-gut.org\
 nWebseite: https://das-gut.org/rechtliches-impressum.html\n\nWeitere Infor
 mationen zur Veranstaltung: http://www.reiseland-brandenburg.de/veranstalt
 ung/seenland-oder-spree/dorffest-in-coethen-auf-dem-gelaende-der-eheml-bre
 nnerei-coethen
CATEGORIES:Fest / Brauchtum
DTSTAMP:20260423T132051Z
END:VEVENT
END:VCALENDAR