BEGIN:VCALENDAR
VERSION:2.0
PRODID:www.reiseland-brandenburg.de
BEGIN:VEVENT
UID:69ea1d36d4595
DTSTART:20260808T080000Z
SEQUENCE:0
TRANSP:OPAQUE
DTEND:20260808T160000Z
URL:http://www.reiseland-brandenburg.de/veranstaltung/seenland-oder-spree/t
 ag-der-industriekultur-dampfmaschine-von-1875-in-coethen
LOCATION:Das-Gut.org - ehemalige Brennerei Cöthen - KunsTechniKiosk\, Cöt
 hen 66\, 16259 Falkenberg Mark
X-APPLE-STRUCTURED-LOCATION;VALUE=URI;X-ADDRESS="Das-Gut.org - ehemalige Br
 ennerei Cöthen - KunsTechniKiosk, Cöthen 66, 16259 Falkenberg Mark";X-AP
 PLE-RADIUS=49;X-TITLE=Das-Gut.org - ehemalige Brennerei Cöthen - KunsTech
 niKiosk:geo:13.956792,52.805047
GEO:13.956792;52.805047
SUMMARY:Tag der Industriekultur - Dampfmaschine von 1875 in Cöthen
CLASS:PUBLIC
DESCRIPTION:**Tag der Industtriekultur**\n\n**14 Uhr\, Vortrag: Was treibt 
 uns an? Dampfmaschine Cöthen 1875 bis 2026 und weiter!**\n\n**Standorte i
 m ganzen Land laden ein\, die Industriegeschichte Brandenburgs zu erleben.
  Von der Prignitz bis ins Lausitzer Seenland können sich Interessierte in
  unterschiedlichen Formaten in die Vergangenheit begeben oder Zukunftsfrag
 en stellen. Die ehemalige Brennerei Cöthen - das-Gut.org - ist dabei!  **
 \n\n**Neben den motivationalen Aspekten der Frage: Was treibt uns an? Geht
  Johanna Frohberg\, die Geschäftsführerin von Das-Gut.org\, im Vortrag a
 m Sam den 8. August um 14 Uhr ganz konkret auf die technische Frage ein\, 
 was für Antriebsmittel in Zukunft für den Antrieb der ältesten am Origi
 nalstandort befindlichen Dampfmaschine in Berlin und Brandenburg gebraucht
  werden könnten.**\n\n**Mehr zum Tag der Industriekultur Brandenburg erfa
 hren Sie** [**HIER**](https://www.reiseland-brandenburg.de/aktivitaeten-er
 lebnisse/kultur/industriekultur/tag-der-industriekultur-brandenburg/)\n\nK
 ontakt:\n\nDAS-GUT.org - ehemalige Brennerei Cöthen - KunsTechniKiosk\nC
 öthen 66\n16259 Falkenberg\nTelefon: \nEmail: box@das-gut.org\nWebseite: 
 https://das-gut.org/rechtliches-impressum.html\n\nWeitere Informationen zu
 r Veranstaltung: http://www.reiseland-brandenburg.de/veranstaltung/seenlan
 d-oder-spree/tag-der-industriekultur-dampfmaschine-von-1875-in-coethen
CATEGORIES:Führung / Besichtigung
DTSTAMP:20260423T132302Z
END:VEVENT
BEGIN:VEVENT
UID:69ea1d36d6a80
DTSTART:20260808T120000Z
SEQUENCE:0
TRANSP:OPAQUE
DTEND:20260808T124500Z
URL:http://www.reiseland-brandenburg.de/veranstaltung/seenland-oder-spree/t
 ag-der-industriekultur-dampfmaschine-von-1875-in-coethen
LOCATION:Das-Gut.org - ehemalige Brennerei Cöthen - KunsTechniKiosk\, Cöt
 hen 66\, 16259 Falkenberg Mark
X-APPLE-STRUCTURED-LOCATION;VALUE=URI;X-ADDRESS="Das-Gut.org - ehemalige Br
 ennerei Cöthen - KunsTechniKiosk, Cöthen 66, 16259 Falkenberg Mark";X-AP
 PLE-RADIUS=49;X-TITLE=Das-Gut.org - ehemalige Brennerei Cöthen - KunsTech
 niKiosk:geo:13.956792,52.805047
GEO:13.956792;52.805047
SUMMARY:Tag der Industriekultur - Dampfmaschine von 1875 in Cöthen
CLASS:PUBLIC
DESCRIPTION:**Tag der Industtriekultur**\n\n**14 Uhr\, Vortrag: Was treibt 
 uns an? Dampfmaschine Cöthen 1875 bis 2026 und weiter!**\n\n**Standorte i
 m ganzen Land laden ein\, die Industriegeschichte Brandenburgs zu erleben.
  Von der Prignitz bis ins Lausitzer Seenland können sich Interessierte in
  unterschiedlichen Formaten in die Vergangenheit begeben oder Zukunftsfrag
 en stellen. Die ehemalige Brennerei Cöthen - das-Gut.org - ist dabei!  **
 \n\n**Neben den motivationalen Aspekten der Frage: Was treibt uns an? Geht
  Johanna Frohberg\, die Geschäftsführerin von Das-Gut.org\, im Vortrag a
 m Sam den 8. August um 14 Uhr ganz konkret auf die technische Frage ein\, 
 was für Antriebsmittel in Zukunft für den Antrieb der ältesten am Origi
 nalstandort befindlichen Dampfmaschine in Berlin und Brandenburg gebraucht
  werden könnten.**\n\n**Mehr zum Tag der Industriekultur Brandenburg erfa
 hren Sie** [**HIER**](https://www.reiseland-brandenburg.de/aktivitaeten-er
 lebnisse/kultur/industriekultur/tag-der-industriekultur-brandenburg/)\n\nK
 ontakt:\n\nDAS-GUT.org - ehemalige Brennerei Cöthen - KunsTechniKiosk\nC
 öthen 66\n16259 Falkenberg\nTelefon: \nEmail: box@das-gut.org\nWebseite: 
 https://das-gut.org/rechtliches-impressum.html\n\nWeitere Informationen zu
 r Veranstaltung: http://www.reiseland-brandenburg.de/veranstaltung/seenlan
 d-oder-spree/tag-der-industriekultur-dampfmaschine-von-1875-in-coethen
CATEGORIES:Führung / Besichtigung
DTSTAMP:20260423T132302Z
END:VEVENT
END:VCALENDAR