BEGIN:VCALENDAR
VERSION:2.0
PRODID:www.reiseland-brandenburg.de
BEGIN:VEVENT
UID:69e7fca9099e2
DTSTART:20260530T160000Z
SEQUENCE:0
TRANSP:OPAQUE
DTEND:20260530T220000Z
URL:http://www.reiseland-brandenburg.de/veranstaltung/uckermark/country-fes
 t-mit-reiterball-in-passow
LOCATION:Coinneal Kulturpalast Passow\, Schwedter Chaussee 11\, 16303 Schwe
 dt/Oder
X-APPLE-STRUCTURED-LOCATION;VALUE=URI;X-ADDRESS="Coinneal Kulturpalast Pass
 ow, Schwedter Chaussee 11, 16303 Schwedt/Oder";X-APPLE-RADIUS=49;X-TITLE=C
 oinneal Kulturpalast Passow:geo:14.115501,53.143168
GEO:14.115501;53.143168
SUMMARY:Country-Fest mit Reiterball in Passow
CLASS:PUBLIC
DESCRIPTION:„Der wilde\, wilde Westen fängt gleich hinter Stendell an\, 
 in einem Studio in Passow\, gleich bei der PCK.“ Wer bei dieser Zeile an
  Country-Musik und gute Laune denkt\, sollte seine Boots aus dem Schrank h
 olen und nach Passow kommen. Hier gibt es Live-Musik mit „Groove & Land
 “\, herzhaften Imbiss und gutes Bier. Da an dem gleichen Tag auf dem Rei
 terhof Passow ein Turnier stattfindet\, gibt es ab 20 Uhr einen Reiterball
 . Auf besonderem Wunsch der Turniergäste sind auch Schlager auf dem Progr
 amm.\n\nKontakt:\n\nCoinneal Kulturpalast Passow\nSchwedter Chaussee 11\n1
 6303 Schwedt/Oder\nTelefon: \nEmail: info@kulturpalast-uckermark.de\nWebse
 ite: https://kulturpalast-uckermark.de/\n\nWeitere Informationen zur Veran
 staltung: http://www.reiseland-brandenburg.de/veranstaltung/uckermark/coun
 try-fest-mit-reiterball-in-passow
CATEGORIES:Fest / Brauchtum,Chor / Folklore / Volksmusik
DTSTAMP:20260421T223937Z
END:VEVENT
END:VCALENDAR