BEGIN:VCALENDAR
VERSION:2.0
PRODID:www.reiseland-brandenburg.de
BEGIN:VEVENT
UID:69e7a294136d7
DTSTART:20260503T090000Z
SEQUENCE:0
TRANSP:OPAQUE
DTEND:20260503T160000Z
URL:http://www.reiseland-brandenburg.de/veranstaltung/seenland-oder-spree/t
 ag-des-offenen-ateliers-auf-dem-urticahof
LOCATION:Atelier und Schauwerkstatt Urticahof\, Lindenallee 17\, 15377 Mär
 kische Höhe
X-APPLE-STRUCTURED-LOCATION;VALUE=URI;X-ADDRESS="Atelier und Schauwerkstatt
  Urticahof, Lindenallee 17, 15377 Märkische Höhe";X-APPLE-RADIUS=49;X-TI
 TLE=Atelier und Schauwerkstatt Urticahof:geo:14.118530,52.635600
GEO:14.118530;52.635600
SUMMARY:Tag des Offenen Ateliers auf dem Urticahof
CLASS:PUBLIC
DESCRIPTION:Schaut gern vorbei. Frühlingszeit beim Urticahof! Neue Produkt
 e aus meiner Werkstatt. Gutscheine zum Verschenken oder selbst einen Kurs 
 buchen. Ein neuer Webstuhl in Aktion. Weben wie vor 300 Jahren. Handspinde
 l und Spinnrad in Aktion.\n\nKontakt:\n\nConstanze Büxler\n\n \nTelefon: 
 \nEmail: \n\nWeitere Informationen zur Veranstaltung: http://www.reiseland
 -brandenburg.de/veranstaltung/seenland-oder-spree/tag-des-offenen-ateliers
 -auf-dem-urticahof
CATEGORIES:Kinder und Jugendliche,Ausstellung,Führung / Besichtigung
DTSTAMP:20260421T161516Z
END:VEVENT
END:VCALENDAR