BEGIN:VCALENDAR
VERSION:2.0
PRODID:www.reiseland-brandenburg.de
BEGIN:VEVENT
UID:69ebd6ade6983
DTSTART:20260627T120000Z
SEQUENCE:0
TRANSP:OPAQUE
DTEND:20260628T000000Z
URL:http://www.reiseland-brandenburg.de/veranstaltung/barnimer-land/dorffes
 t-althuettendorf
LOCATION:Liegewiese Althüttendorf\, Dorfstraße  17\, 16247 Althüttendorf
X-APPLE-STRUCTURED-LOCATION;VALUE=URI;X-ADDRESS="Liegewiese Althüttendorf,
  Dorfstraße  17, 16247 Althüttendorf";X-APPLE-RADIUS=49;X-TITLE=Liegewie
 se Althüttendorf:geo:13.741878,52.977535
GEO:13.741878;52.977535
SUMMARY:Dorffest Althüttendorf
CLASS:PUBLIC
DESCRIPTION:Das Dorffest an der Liegewiese ist die perfekte Gelegenheit\, N
 achbarn\, Freunde und Gäste zu treffen und gemeinsam unvergessliche Stund
 en zu verbringen. Es erwartet die Besucher ein buntes Programm mit Musik\,
  Tanz und Unterhaltung. Die kleinen Besucher kommen mit fröhlichen Spiele
 n\, fantasievollem Kinderschminken und kreativem Basteln auf ihre Kosten. 
 Auch ist für das leibliche Wohl mit Kaffee\, leckerem Kuchen\, herzhaften
  Spezialitäten und erfrischenden Getränken gesorgt.\n\nEin echtes Highli
 ght gleich zu Beginn: Um 14 Uhr startet das Kistenrennen mit selbstgebaute
 n  \nFahrzeugen – ein Riesenspaß für Groß und Klein! Voraussetzung is
 t\, dass bis zum 08.05.2026 genügend Anmeldungen im Gemeindebüro Althüt
 tendorf\, Zu den Ihlowbergen 1\, eingehen. Dabei sein ist Alles – egal w
 elches Alter\, hier zählt nur der Spaß!\n\nKontakt:\n\nGemeinde Althütt
 endorf\nZu den Ihlowbergen  1\n16247 Althüttendorf\nTelefon: +49 151 5664
 9078\nEmail: marion7487@gmail.com\n\nWeitere Informationen zur Veranstaltu
 ng: http://www.reiseland-brandenburg.de/veranstaltung/barnimer-land/dorffe
 st-althuettendorf
CATEGORIES:Fest / Brauchtum
DTSTAMP:20260424T204638Z
END:VEVENT
END:VCALENDAR