BEGIN:VCALENDAR
VERSION:2.0
PRODID:www.reiseland-brandenburg.de
BEGIN:VEVENT
UID:69ed1b28c65f4
DTSTART:20260428T120000Z
SEQUENCE:0
TRANSP:OPAQUE
DTEND:20260428T140000Z
URL:http://www.reiseland-brandenburg.de/veranstaltung/havelland/bluetencafe
 -am-treffpunkt-werder-h
LOCATION:TREFFPUNKT Werder\, Plantagenplatz 11\, 14542 Werder (Havel)
X-APPLE-STRUCTURED-LOCATION;VALUE=URI;X-ADDRESS="TREFFPUNKT Werder, Plantag
 enplatz 11, 14542 Werder (Havel)";X-APPLE-RADIUS=49;X-TITLE=TREFFPUNKT Wer
 der:geo:12.934137,52.376516
GEO:12.934137;52.376516
SUMMARY:Blütencafé am Treffpunkt Werder H.
CLASS:PUBLIC
DESCRIPTION:Kaffee\, Kuchen und Unterhaltung zur Baumblütenzeit\n\nKontakt
 :\n\nSeniorenbeirat der Stadt Werder (Havel) - Stadtverwaltung\nUferstraß
 e  10\n14542 Werder (Havel)\nTelefon: +49 03327 783 310\nEmail: senioren@w
 erder-havel.de\nWebseite: https://www.werder-havel.de/politik-rathaus/st%C
 3%A4dtische-projekte/seniorenbeirat.html\n\nWeitere Informationen zur Vera
 nstaltung: http://www.reiseland-brandenburg.de/veranstaltung/havelland/blu
 etencafe-am-treffpunkt-werder-h
CATEGORIES:Fest / Brauchtum,Essen und Trinken
DTSTAMP:20260425T195105Z
END:VEVENT
END:VCALENDAR