BEGIN:VCALENDAR
VERSION:2.0
PRODID:www.reiseland-brandenburg.de
BEGIN:VEVENT
UID:69ea00d65eef2
DTSTART:20260502T120000Z
SEQUENCE:0
TRANSP:OPAQUE
DTEND:20260502T160000Z
URL:http://www.reiseland-brandenburg.de/veranstaltung/ruppiner-seenland/tag
 -des-offenen-ateliers-hartmut-steinmetz-kinetiche-metallobjekte
LOCATION:Atelier Hartmut Steinmetz\, Bergstraße 11\, 16831 Rheinsberg
X-APPLE-STRUCTURED-LOCATION;VALUE=URI;X-ADDRESS="Atelier Hartmut Steinmetz,
  Bergstraße 11, 16831 Rheinsberg";X-APPLE-RADIUS=49;X-TITLE=Atelier Hartm
 ut Steinmetz:geo:12.829149,53.097653
GEO:12.829149;53.097653
SUMMARY:Tag des offenen Ateliers Hartmut Steinmetz Kinetiche Metallobjekte
CLASS:PUBLIC
DESCRIPTION:Seine Kunstwerke kombinieren Handwerk mit Bewegung (Kinetik) un
 d werden in der Region Ostprignitz-Ruppin im Rahmen kultureller Veranstalt
 ungen präsentiert.\n\nKontakt:\n\nAtelier Hartmut Steinmetz\nBergstraße 
 11\n16831 Rheinsberg\nTelefon: +49 163 1357557\nEmail: hartmut_steinmetz@w
 eb.de\n\nWeitere Informationen zur Veranstaltung: http://www.reiseland-bra
 ndenburg.de/veranstaltung/ruppiner-seenland/tag-des-offenen-ateliers-hartm
 ut-steinmetz-kinetiche-metallobjekte
CATEGORIES:Ausstellung
DTSTAMP:20260423T112158Z
END:VEVENT
BEGIN:VEVENT
UID:69ea00d666625
DTSTART:20260503T110000Z
SEQUENCE:0
TRANSP:OPAQUE
DTEND:20260503T160000Z
URL:http://www.reiseland-brandenburg.de/veranstaltung/ruppiner-seenland/tag
 -des-offenen-ateliers-hartmut-steinmetz-kinetiche-metallobjekte
LOCATION:Atelier Hartmut Steinmetz\, Bergstraße 11\, 16831 Rheinsberg
X-APPLE-STRUCTURED-LOCATION;VALUE=URI;X-ADDRESS="Atelier Hartmut Steinmetz,
  Bergstraße 11, 16831 Rheinsberg";X-APPLE-RADIUS=49;X-TITLE=Atelier Hartm
 ut Steinmetz:geo:12.829149,53.097653
GEO:12.829149;53.097653
SUMMARY:Tag des offenen Ateliers Hartmut Steinmetz Kinetiche Metallobjekte
CLASS:PUBLIC
DESCRIPTION:Seine Kunstwerke kombinieren Handwerk mit Bewegung (Kinetik) un
 d werden in der Region Ostprignitz-Ruppin im Rahmen kultureller Veranstalt
 ungen präsentiert.\n\nKontakt:\n\nAtelier Hartmut Steinmetz\nBergstraße 
 11\n16831 Rheinsberg\nTelefon: +49 163 1357557\nEmail: hartmut_steinmetz@w
 eb.de\n\nWeitere Informationen zur Veranstaltung: http://www.reiseland-bra
 ndenburg.de/veranstaltung/ruppiner-seenland/tag-des-offenen-ateliers-hartm
 ut-steinmetz-kinetiche-metallobjekte
CATEGORIES:Ausstellung
DTSTAMP:20260423T112158Z
END:VEVENT
END:VCALENDAR