BEGIN:VCALENDAR
VERSION:2.0
PRODID:www.reiseland-brandenburg.de
BEGIN:VEVENT
UID:69e4db4c6fce9
DTSTART:20260503T113000Z
SEQUENCE:0
TRANSP:OPAQUE
DTEND:20260503T143000Z
URL:http://www.reiseland-brandenburg.de/veranstaltung/seenland-oder-spree/w
 eide-aktionstag-mit-jungpflanzenverkauf-und-ziegenkaese-verkostung
LOCATION:Lawine GbR\, Gutshof  2\, 15518 Steinhöfel
X-APPLE-STRUCTURED-LOCATION;VALUE=URI;X-ADDRESS="Lawine GbR, Gutshof  2, 15
 518 Steinhöfel";X-APPLE-RADIUS=49;X-TITLE=Lawine GbR:geo:14.107863,52.390
 306
GEO:14.107863;52.390306
SUMMARY:Weide-Aktionstag mit Jungpflanzenverkauf & Ziegenkäse-Verkostung
CLASS:PUBLIC
DESCRIPTION:Am Weide-Aktionstag liegt der Fokus auf unseren Weiden! Warum s
 ind Weiden so wertvoll für unsere Umwelt und nicht nur langweiliges Gras?
  Was hat es mit den Hecken und Baumreihen dort auf sich und was tragen uns
 ere Ziegen zu einem gesunden Grasland bei? \n\nWir haben eine Weide-Expert
 in eingeladen\, die uns spannende Einblicke geben wird\, wir schauen uns u
 nsere Landwirtschaft an und danach gibts leckere Ziegenkäse-Verkostung un
 d Jungpflanzenverkauf\n\nTreffpunkt:\n\n Gutshof 6  \n15518 Steinhöfel OT
  Neuendorf im Sande\n\nKontakt:\n\nLawine GbR\nGutshof 2\n15518 Steinhöfe
 l\nTelefon: \nEmail: lawine@zusammen-in-neuendorf.de\nWebseite: https://so
 lawi-lawine.de/\n\nWeitere Informationen zur Veranstaltung: http://www.rei
 seland-brandenburg.de/veranstaltung/seenland-oder-spree/weide-aktionstag-m
 it-jungpflanzenverkauf-und-ziegenkaese-verkostung
CATEGORIES:Kinder und Jugendliche,Führung / Besichtigung
DTSTAMP:20260419T134028Z
END:VEVENT
END:VCALENDAR