BEGIN:VCALENDAR
VERSION:2.0
PRODID:www.reiseland-brandenburg.de
BEGIN:VEVENT
UID:69e4c4266393a
DTSTART:20260424T150000Z
SEQUENCE:0
TRANSP:OPAQUE
DTEND:20260424T180000Z
URL:http://www.reiseland-brandenburg.de/veranstaltung/seenland-oder-spree/h
 offuehrung-bei-solawi-lawine
LOCATION:Lawine GbR\, Gutshof  2\, 15518 Steinhöfel
X-APPLE-STRUCTURED-LOCATION;VALUE=URI;X-ADDRESS="Lawine GbR, Gutshof  2, 15
 518 Steinhöfel";X-APPLE-RADIUS=49;X-TITLE=Lawine GbR:geo:14.107863,52.390
 306
GEO:14.107863;52.390306
SUMMARY:Hofführung bei Solawi Lawine
CLASS:PUBLIC
DESCRIPTION:Wir zeigen euch unsere Landwirtschaft\, erklären was eine Sola
 wi ist und wie unser leckeres Gemüse & Ziegenkäse auf euren Tellern land
 en könnte.\n\nKontakt:\n\nLawine GbR\nGutshof 2\n15518 Steinhöfel\nTelef
 on: \nEmail: lawine@zusammen-in-neuendorf.de\nWebseite: https://solawi-law
 ine.de/\n\nWeitere Informationen zur Veranstaltung: http://www.reiseland-b
 randenburg.de/veranstaltung/seenland-oder-spree/hoffuehrung-bei-solawi-law
 ine
CATEGORIES:Fest / Brauchtum,Kinder und Jugendliche
DTSTAMP:20260419T120142Z
END:VEVENT
END:VCALENDAR